BEGIN:VCALENDAR
VERSION:2.0
PRODID:-//C.M.A.K. Cerkno - ECPv5.10.0//NONSGML v1.0//EN
CALSCALE:GREGORIAN
METHOD:PUBLISH
X-WR-CALNAME:C.M.A.K. Cerkno
X-ORIGINAL-URL:https://cmakcerkno.net
X-WR-CALDESC:Events for C.M.A.K. Cerkno
BEGIN:VTIMEZONE
TZID:Europe/Ljubljana
BEGIN:DAYLIGHT
TZOFFSETFROM:+0100
TZOFFSETTO:+0200
TZNAME:CEST
DTSTART:20210328T010000
END:DAYLIGHT
BEGIN:STANDARD
TZOFFSETFROM:+0200
TZOFFSETTO:+0100
TZNAME:CET
DTSTART:20211031T010000
END:STANDARD
END:VTIMEZONE
BEGIN:VEVENT
DTSTART;TZID=Europe/Ljubljana:20211030T150000
DTEND;TZID=Europe/Ljubljana:20211030T170000
DTSTAMP:20260420T224333
CREATED:20211025T180529Z
LAST-MODIFIED:20211030T180837Z
UID:4449-1635606000-1635613200@cmakcerkno.net
SUMMARY:Delavnica izrezovanja buč za Noč čarovnic
DESCRIPTION:Bu! Noč čarovnic je skoraj tu!\nZato bomo v soboto popoldne rezljali\, dolbli in preoblikovali buče v strašne svetilke\, ki jih boste lahko vzeli s seboj domov.\nBuče bomo priskrbeli mi (zaželjen prostovoljni prispevek)\, lahko pa jih tudi prinesete s seboj. \n\nPoleg izrezovanja buč pa se boste lahko tudi okrepčali s toplim domačim čajem.\nČe ne bo premrzlo\, bomo buče izrezovali pred vhodom v VCC\, sicer pa se bomo premaknili v večnamensko dvorano. \nDelavnica je namenjena predvsem za otroke\, a dobrodošli tudi mladi in odrasli. \nVabljeni/e!
URL:https://cmakcerkno.net/event/delavnica-izrezovanja-buc-za-noc-carovnic/
LOCATION:C.M.A.K. Cerkno\, Bevkova ulica 22\, Cerkno\, 5282\, Slovenija
CATEGORIES:Delavnica
ATTACH;FMTTYPE=image/jpeg:https://cmakcerkno.net/wp-content/uploads/2021/10/buče.jpg
END:VEVENT
END:VCALENDAR