BEGIN:VCALENDAR
VERSION:2.0
PRODID:-//C.M.A.K. Cerkno - ECPv5.10.0//NONSGML v1.0//EN
CALSCALE:GREGORIAN
METHOD:PUBLISH
X-WR-CALNAME:C.M.A.K. Cerkno
X-ORIGINAL-URL:https://cmakcerkno.net
X-WR-CALDESC:Events for C.M.A.K. Cerkno
BEGIN:VTIMEZONE
TZID:Europe/Ljubljana
BEGIN:DAYLIGHT
TZOFFSETFROM:+0100
TZOFFSETTO:+0200
TZNAME:CEST
DTSTART:20240331T010000
END:DAYLIGHT
BEGIN:STANDARD
TZOFFSETFROM:+0200
TZOFFSETTO:+0100
TZNAME:CET
DTSTART:20241027T010000
END:STANDARD
END:VTIMEZONE
BEGIN:VEVENT
DTSTART;TZID=Europe/Ljubljana:20241031T150000
DTEND;TZID=Europe/Ljubljana:20241031T170000
DTSTAMP:20260420T211349
CREATED:20241030T205135Z
LAST-MODIFIED:20241030T205135Z
UID:5585-1730386800-1730394000@cmakcerkno.net
SUMMARY:Delavnica izrezovanja buč in veganska večerja - Food\, not bombs!
DESCRIPTION:V četrtek\, 31.10. se družimo pred VCC-jem\, kjer bomo ob padanju listja izrezovali buče za okra(straš)itev naših domov za noč čarovnic.\n\nDa nam ne zmanjka energije za delo in druženje\, bo za vse lačne na voljo tudi brezplačni veganski obrok.\n\nProstovoljni prispevki zaželjeni.\n\nVabljene in vabljeni!
URL:https://cmakcerkno.net/event/delavnica-izrezovanja-buc-in-veganska-vecerja-food-not-bombs/
LOCATION:C.M.A.K. Cerkno\, Bevkova ulica 22\, Cerkno\, 5282\, Slovenija
CATEGORIES:Delavnica,Okusno
END:VEVENT
END:VCALENDAR