BEGIN:VCALENDAR
VERSION:2.0
PRODID:-//C.M.A.K. Cerkno - ECPv5.10.0//NONSGML v1.0//EN
CALSCALE:GREGORIAN
METHOD:PUBLISH
X-WR-CALNAME:C.M.A.K. Cerkno
X-ORIGINAL-URL:https://cmakcerkno.net
X-WR-CALDESC:Events for C.M.A.K. Cerkno
BEGIN:VTIMEZONE
TZID:Europe/Ljubljana
BEGIN:DAYLIGHT
TZOFFSETFROM:+0100
TZOFFSETTO:+0200
TZNAME:CEST
DTSTART:20210328T010000
END:DAYLIGHT
BEGIN:STANDARD
TZOFFSETFROM:+0200
TZOFFSETTO:+0100
TZNAME:CET
DTSTART:20211031T010000
END:STANDARD
END:VTIMEZONE
BEGIN:VEVENT
DTSTART;TZID=Europe/Ljubljana:20211211T160000
DTEND;TZID=Europe/Ljubljana:20211211T180000
DTSTAMP:20260419T195227
CREATED:20211201T115225Z
LAST-MODIFIED:20211206T115320Z
UID:4584-1639238400-1639245600@cmakcerkno.net
SUMMARY:Delavnica: Izdelava novoletnih voščilnic
DESCRIPTION:Prazniki?\nVoščílnice?\nVoščilnice! \nNe bodite nevoščljivi\, raje izdelajte voščilnico na Cmakovi delavnici.\nZa material bo poskrbljeno\, delavnica je primerna za vse generacije. \nV soboto\, 11. grudna\, od 16:oo dalje v predavalnici VCCja. \nDogodek bo izveden upoštevajoč trenutne veljavne epidemiološke ukrepe.
URL:https://cmakcerkno.net/event/delavnica-izdelava-novoletnih-voscilnic/
LOCATION:C.M.A.K. Cerkno\, Bevkova ulica 22\, Cerkno\, 5282\, Slovenija
CATEGORIES:Delavnica
ATTACH;FMTTYPE=image/jpeg:https://cmakcerkno.net/wp-content/uploads/2014/12/voscilnice.jpg
END:VEVENT
END:VCALENDAR