BEGIN:VCALENDAR
VERSION:2.0
PRODID:-//C.M.A.K. Cerkno - ECPv5.10.0//NONSGML v1.0//EN
CALSCALE:GREGORIAN
METHOD:PUBLISH
X-WR-CALNAME:C.M.A.K. Cerkno
X-ORIGINAL-URL:https://cmakcerkno.net
X-WR-CALDESC:Events for C.M.A.K. Cerkno
BEGIN:VTIMEZONE
TZID:Europe/Ljubljana
BEGIN:DAYLIGHT
TZOFFSETFROM:+0100
TZOFFSETTO:+0200
TZNAME:CEST
DTSTART:20140330T010000
END:DAYLIGHT
BEGIN:STANDARD
TZOFFSETFROM:+0200
TZOFFSETTO:+0100
TZNAME:CET
DTSTART:20141026T010000
END:STANDARD
END:VTIMEZONE
BEGIN:VEVENT
DTSTART;TZID=Europe/Ljubljana:20140922T160000
DTEND;TZID=Europe/Ljubljana:20140925T220000
DTSTAMP:20260421T013556
CREATED:20140904T203005Z
LAST-MODIFIED:20140904T213352Z
UID:441-1411401600-1411682400@cmakcerkno.net
SUMMARY:Delavnica glasbene produkcije in DJ-anja
DESCRIPTION:V MC C.M.A.K. od 22.9. do 25.9. 2014 od 16h do 22h. \nV okviru festivala smo pripravili dvodelno delavnico na kateri se boste lahko naučili osnov glasbene produkcije in DJ-anja. Delavnico bosta vodila Anže Marinič in Gašper Tavčar\, člana domače DJ in produkcijske skupine Smoke in crew. \nUdeleženci\, ki jih zanima vrtenje glasbe\, bodo pridobili znanje\, ki je potrebno za delo DJ-ja. Najprej se bodo seznanili s predstavitvijo osnov\, kakšno opremo uporabljajo DJ-ji\, kako jo priklopiti in kako z njo ravnati. Na voljo bodo gramofoni\, CD playerji in midi kontrolerji. V praktičnem delu pa bodo sledile osnove vrtenja\, miksanje ter uporaba efektov. \nDrugi del delavnice se bo posvečal osnovam glasbene produkcije. Delavnica je namenjena vsem zainteresiranim za produkcijo elektronske glasbe s pomočjo računalnika\, midi kontrolerjev in drugih aparatur. \nPredhodno znanje ni obvezno\, je pa zaželjeno; na delavnico so vabljeni tudi začetniki. \nPrijave na delavnico sprejemamo do nedelje 21.9. zvečer na 051 828 028 ali cmak2@siol.net. Delavnica je brezplačna.
URL:https://cmakcerkno.net/event/delavnica-glasbene-produkcije-in-dj-janja-mentorja-anze-marinic-in-gasper-tavcar/
LOCATION:C.M.A.K. Cerkno\, Bevkova ulica 22\, Cerkno\, 5282\, Slovenija
CATEGORIES:Delavnica
ATTACH;FMTTYPE=image/jpeg:https://cmakcerkno.net/wp-content/uploads/2014/08/FB_header_cmakajne14_2.jpg
END:VEVENT
END:VCALENDAR