BEGIN:VCALENDAR
VERSION:2.0
PRODID:-//C.M.A.K. Cerkno - ECPv5.10.0//NONSGML v1.0//EN
CALSCALE:GREGORIAN
METHOD:PUBLISH
X-WR-CALNAME:C.M.A.K. Cerkno
X-ORIGINAL-URL:https://cmakcerkno.net
X-WR-CALDESC:Events for C.M.A.K. Cerkno
BEGIN:VTIMEZONE
TZID:Europe/Ljubljana
BEGIN:DAYLIGHT
TZOFFSETFROM:+0100
TZOFFSETTO:+0200
TZNAME:CEST
DTSTART:20170326T010000
END:DAYLIGHT
BEGIN:STANDARD
TZOFFSETFROM:+0200
TZOFFSETTO:+0100
TZNAME:CET
DTSTART:20171029T010000
END:STANDARD
END:VTIMEZONE
BEGIN:VEVENT
DTSTART;TZID=Europe/Ljubljana:20171125T210000
DTEND;TZID=Europe/Ljubljana:20171125T210000
DTSTAMP:20260420T170304
CREATED:20171122T202442Z
LAST-MODIFIED:20171122T202534Z
UID:2552-1511643600-1511643600@cmakcerkno.net
SUMMARY:Dan republike s Trubači United
DESCRIPTION:  \nNostalgija na dan Republike Jugoslavije. Kdaj najpomembnejši praznik\, je po razpadu Jugoslavije kaj hitro šel v pozabo. V MC C.M.A.K. Cerkno ga na mnoge načine\, predvsem pa s prascem na mizi\, obujamo že devetnajsto leto zapored. Na eni strani solzne oči povrnjenih spominov in na drugi začuden pogled kakšnega mladca\, ki si ne more priznati\, da so se tudi naši starši znali do konca odštekati. Letos nam bo nostalgičen večer v okviru koncertnega cikla CMAKoncert popestrila razigrana zasedba Trubači United.
URL:https://cmakcerkno.net/event/dan-republike-s-trubaci-united/
LOCATION:C.M.A.K. Cerkno\, Bevkova ulica 22\, Cerkno\, 5282\, Slovenija
CATEGORIES:Klubski večer
END:VEVENT
END:VCALENDAR