BEGIN:VCALENDAR
VERSION:2.0
PRODID:-//C.M.A.K. Cerkno - ECPv5.10.0//NONSGML v1.0//EN
CALSCALE:GREGORIAN
METHOD:PUBLISH
X-WR-CALNAME:C.M.A.K. Cerkno
X-ORIGINAL-URL:https://cmakcerkno.net
X-WR-CALDESC:Events for C.M.A.K. Cerkno
BEGIN:VTIMEZONE
TZID:Europe/Ljubljana
BEGIN:DAYLIGHT
TZOFFSETFROM:+0100
TZOFFSETTO:+0200
TZNAME:CEST
DTSTART:20230326T010000
END:DAYLIGHT
BEGIN:STANDARD
TZOFFSETFROM:+0200
TZOFFSETTO:+0100
TZNAME:CET
DTSTART:20231029T010000
END:STANDARD
END:VTIMEZONE
BEGIN:VEVENT
DTSTART;TZID=Europe/Ljubljana:20231221T160000
DTEND;TZID=Europe/Ljubljana:20231223T200000
DTSTAMP:20260421T002549
CREATED:20231201T120638Z
LAST-MODIFIED:20231201T120701Z
UID:5391-1703174400-1703361600@cmakcerkno.net
SUMMARY:Cmakov štant 2023
DESCRIPTION:Tudi letos konec decembra prihaja tradicionalni Cmakov štant! Potekal bo v spodnjih prostorih bara Pr’Gabrijelu\, od 21. – 23. decembra. \n  \n\n\n\nVse zainteresirane za razstavljanje del svojih rok\, vabimo k prijavi! Pišite nam na cmak2@siol.net ali v zasebno sporočilo. \n  \n\n\n\nCmakov štant je večdnevni družabni projekt\, ko se v centru Cerknega\, kamor precejšnje število stvariteljev in stvariteljic prinese svoje takšne ali drugačne umetnine\, ročne izdelke\, domače dobrote ter podobne dobričice\, zbere množica ljudi iz vseh vetrov\, da pokramljajo s svojimi prijatelji in prijateljicami\, spijejo kakšen čaj ter ob prijetnem zvoku piščali\, trstenk\, didgeridooja in drugih inštrumentov uživajo v mrzlih zimskih dneh. \n\n\n\n\n\n\n\nSi mogoče naredil/-a glinen obesek ali pa voščilnico? Imaš doma stare knjige\, ki čakajo da jih spet kdo odpre in prebere? Izdeluješ lesene kipce\, mogoče tekom leta nabiraš zelišča\, pozimi pa pleteš tople nogavice in iz zelišč pripravljaš ljubezenske napoje? Rišeš\, slikaš\, fotografiraš\, pišeš pesmi\, se potikaš po svetu in nabiraš kamne? Imaš doma stare obleke\, kasete\, cedeje\, plošče\, znamke in broške? Boš nekaj od tega prinesel/-la na Cmakov štant?
URL:https://cmakcerkno.net/event/cmakov-stant-2023/
LOCATION:Bar Gabrijel\, Trg prekomorskih brigad 1\, Cerkno\, 5282\, Slovenija
CATEGORIES:Razstava,Stojnice
END:VEVENT
END:VCALENDAR