BEGIN:VCALENDAR
VERSION:2.0
PRODID:-//C.M.A.K. Cerkno - ECPv5.10.0//NONSGML v1.0//EN
CALSCALE:GREGORIAN
METHOD:PUBLISH
X-WR-CALNAME:C.M.A.K. Cerkno
X-ORIGINAL-URL:https://cmakcerkno.net
X-WR-CALDESC:Events for C.M.A.K. Cerkno
BEGIN:VTIMEZONE
TZID:Europe/Ljubljana
BEGIN:DAYLIGHT
TZOFFSETFROM:+0100
TZOFFSETTO:+0200
TZNAME:CEST
DTSTART:20180325T010000
END:DAYLIGHT
BEGIN:STANDARD
TZOFFSETFROM:+0200
TZOFFSETTO:+0100
TZNAME:CET
DTSTART:20181028T010000
END:STANDARD
END:VTIMEZONE
BEGIN:VEVENT
DTSTART;VALUE=DATE:20181221
DTEND;VALUE=DATE:20181229
DTSTAMP:20260420T121322
CREATED:20181203T211859Z
LAST-MODIFIED:20181203T212030Z
UID:3198-1545350400-1546041599@cmakcerkno.net
SUMMARY:Cmakov štant 2018
DESCRIPTION:MC C.M.A.K. Cerkno tudi letos konec decembra pripravlja Cmakov štant.\nK sodelovanju vabimo ustvarjalke\, rokodelce\, zeliščarke\, čebelarje in vse ostale\, ki se želite predstaviti širši javnosti in v prodajo ponuditi svoje izdelke.\nVeč informacij sledi kmalu na naši spletni strani. \nPrijave in informacije do 20.12. na cmak2[at]siol.net ali 031 428 796 (Mateja). \nPrinesi & sodeluj!
URL:https://cmakcerkno.net/event/cmakov-stant-2018/
CATEGORIES:Stojnice,Večzvrstno
ATTACH;FMTTYPE=image/jpeg:https://cmakcerkno.net/wp-content/uploads/2018/12/cmakov-štant-2018.jpg
END:VEVENT
END:VCALENDAR