BEGIN:VCALENDAR
VERSION:2.0
PRODID:-//C.M.A.K. Cerkno - ECPv5.10.0//NONSGML v1.0//EN
CALSCALE:GREGORIAN
METHOD:PUBLISH
X-WR-CALNAME:C.M.A.K. Cerkno
X-ORIGINAL-URL:https://cmakcerkno.net
X-WR-CALDESC:Events for C.M.A.K. Cerkno
BEGIN:VTIMEZONE
TZID:Europe/Ljubljana
BEGIN:DAYLIGHT
TZOFFSETFROM:+0100
TZOFFSETTO:+0200
TZNAME:CEST
DTSTART:20170326T010000
END:DAYLIGHT
BEGIN:STANDARD
TZOFFSETFROM:+0200
TZOFFSETTO:+0100
TZNAME:CET
DTSTART:20171029T010000
END:STANDARD
END:VTIMEZONE
BEGIN:VEVENT
DTSTART;TZID=Europe/Ljubljana:20171222T170000
DTEND;TZID=Europe/Ljubljana:20171229T210000
DTSTAMP:20260420T100851
CREATED:20171203T161703Z
LAST-MODIFIED:20171221T100526Z
UID:2573-1513962000-1514581200@cmakcerkno.net
SUMMARY:CMAKov štant
DESCRIPTION:Cmakov štant – vabilo k sodelovanju\nMladinski center C.M.A.K. Cerkno vse ustvarjalce in ustvarjalke vabi k sodelovanju pri projektu Cmakov štant\, ki bo potekal od 22. do 29. decembra 2017 na »Gabrijelovem vrtu« v centru Cerknega.\nCmakov štant je tradicionalni večdnevni projekt\, katerega namen je predstavitev in spodbujanje mladih ustvarjalcev in ustvarjalk\, ki delujejo na več področjih kot so likovna\, glasbena in druga umetnost\, rokodelstvo\, zeliščarstvo idr. Ustvarjalci in ustvarjalke tekom Štanta predstavljajo svoje dejavnosti in izdelke\, možna je tudi prodaja slednjih mimoidočim zainteresiranim. \nVsi/-e zainteresirani/-e se k sodelovanju lahko do 20.12. prijavite preko e-pošte cmak2[at]siol.net ali telefonske številke 068-692-214 (Matic)\, kjer dobite tudi več informacij o načinih sodelovanja. \nTekom Štanta bo v mladinskem centru C.M.A.K. potekal tudi pester spremljevalni program\, sestavljen iz predavanj\, delavnic in glasbenih dogodkov.\nDo sedaj potrjen spremljevalni program:\n22.12. – MART\n29.12. – Trije muškištirje
URL:https://cmakcerkno.net/event/cmakov-stant-2/
LOCATION:Gabrijelov vrt
CATEGORIES:Stojnice
END:VEVENT
END:VCALENDAR