BEGIN:VCALENDAR
VERSION:2.0
PRODID:-//C.M.A.K. Cerkno - ECPv5.10.0//NONSGML v1.0//EN
CALSCALE:GREGORIAN
METHOD:PUBLISH
X-WR-CALNAME:C.M.A.K. Cerkno
X-ORIGINAL-URL:https://cmakcerkno.net
X-WR-CALDESC:Events for C.M.A.K. Cerkno
BEGIN:VTIMEZONE
TZID:Europe/Ljubljana
BEGIN:DAYLIGHT
TZOFFSETFROM:+0100
TZOFFSETTO:+0200
TZNAME:CEST
DTSTART:20140330T010000
END:DAYLIGHT
BEGIN:STANDARD
TZOFFSETFROM:+0200
TZOFFSETTO:+0100
TZNAME:CET
DTSTART:20141026T010000
END:STANDARD
END:VTIMEZONE
BEGIN:VEVENT
DTSTART;TZID=Europe/Ljubljana:20140725T190000
DTEND;TZID=Europe/Ljubljana:20140726T235500
DTSTAMP:20260421T033156
CREATED:20140821T175248Z
LAST-MODIFIED:20140821T175248Z
UID:247-1406314800-1406418900@cmakcerkno.net
SUMMARY:Cmakov malonogometni turnir
DESCRIPTION:
URL:https://cmakcerkno.net/event/cmakov-malonogometni-turnir/
LOCATION:Igrišče ob OŠ Cerkno\, Cerkno\, 5282\, Slovenia
CATEGORIES:Šport
END:VEVENT
END:VCALENDAR