BEGIN:VCALENDAR
VERSION:2.0
PRODID:-//C.M.A.K. Cerkno - ECPv5.10.0//NONSGML v1.0//EN
CALSCALE:GREGORIAN
METHOD:PUBLISH
X-WR-CALNAME:C.M.A.K. Cerkno
X-ORIGINAL-URL:https://cmakcerkno.net
X-WR-CALDESC:Events for C.M.A.K. Cerkno
BEGIN:VTIMEZONE
TZID:Europe/Ljubljana
BEGIN:DAYLIGHT
TZOFFSETFROM:+0100
TZOFFSETTO:+0200
TZNAME:CEST
DTSTART:20170326T010000
END:DAYLIGHT
BEGIN:STANDARD
TZOFFSETFROM:+0200
TZOFFSETTO:+0100
TZNAME:CET
DTSTART:20171029T010000
END:STANDARD
END:VTIMEZONE
BEGIN:VEVENT
DTSTART;TZID=Europe/Ljubljana:20170414T220000
DTEND;TZID=Europe/Ljubljana:20170414T220000
DTSTAMP:20260419T183231
CREATED:20170408T123617Z
LAST-MODIFIED:20170408T124609Z
UID:2206-1492207200-1492207200@cmakcerkno.net
SUMMARY:CMAKoncert / Zadnja minuta\, Memorial! / Decibelles (FR)
DESCRIPTION:  \nNa drugi aprilski petek – smo se s CMAKoncertom – zadnjo minuto spomnili napovedati cerkljanski del memoriala\, ki se bo zgodil prvo majsko soboto. Pred leti je pokojni profesor kolesaril na koncerte v Cerkno\, po lanskoletni vrnitvi se je odločil\, da letos spet požene pedala. DECIBELLES je energičen trio punc iz francoskega Lyona\, ki skupaj ustvarjajo od leta dvatisočpet. Igrajo protislovni new wave-post oz. pop-punk s ščepcem noisa ter ušesom prijaznimi pa vendar našpičenimi vokali.V sodelovanju Festival “In Memoriam prof. Peter Hafner” in CMAKoncerta bodo – prvič v Sloveniji – z novim albumom “Tight” nastopile v petek\, 14.4. 2017! \nhttps://www.facebook.com/decibellesband?fref=tshttps://decibelles.bandcamp.com/Vstopnina: 3 €Vabljene-i!
URL:https://cmakcerkno.net/event/cmakoncert-zadnja-minuta-memorial-decibelles-fr/
LOCATION:C.M.A.K. Cerkno\, Bevkova ulica 22\, Cerkno\, 5282\, Slovenija
CATEGORIES:CMAKoncert
END:VEVENT
END:VCALENDAR