BEGIN:VCALENDAR
VERSION:2.0
PRODID:-//C.M.A.K. Cerkno - ECPv5.10.0//NONSGML v1.0//EN
CALSCALE:GREGORIAN
METHOD:PUBLISH
X-WR-CALNAME:C.M.A.K. Cerkno
X-ORIGINAL-URL:https://cmakcerkno.net
X-WR-CALDESC:Events for C.M.A.K. Cerkno
BEGIN:VTIMEZONE
TZID:Europe/Ljubljana
BEGIN:DAYLIGHT
TZOFFSETFROM:+0100
TZOFFSETTO:+0200
TZNAME:CEST
DTSTART:20190331T010000
END:DAYLIGHT
BEGIN:STANDARD
TZOFFSETFROM:+0200
TZOFFSETTO:+0100
TZNAME:CET
DTSTART:20191027T010000
END:STANDARD
END:VTIMEZONE
BEGIN:VEVENT
DTSTART;TZID=Europe/Ljubljana:20190316T210000
DTEND;TZID=Europe/Ljubljana:20190316T210000
DTSTAMP:20260420T115046
CREATED:20190108T091910Z
LAST-MODIFIED:20190205T161735Z
UID:3245-1552770000-1552770000@cmakcerkno.net
SUMMARY:7. DEUJE BABE / YÖU (Mk)\, Igel vs Shark (At)\, Relentless Youth\, DJane Bruxa
DESCRIPTION:Sedmič zapovrstjo bo marca v Cerknem divje – Festival DEUJE BABE! \nYÖU (Makedonija)\nTrojica iz Skopja\, katere glasba je polna močnih čustev\, ki jih izražajo skozi navpite vokale in jokajoče kitare. Skupaj ustvarjajo od konca leta 2015\, dve leti kasneje so pri založbah Deny Records/Booking & Nosebleed Records izdali prvenec “We sing the blues…”\, ki se je znašel na kar nekaj regionalnih lestvicah najboljših albumov leta 2017.\nSkratka\, EMOcionalna muzika\, kot je najverjetneje ne poznate\, če niste nikoli previjali kaset\, poleg tega bo to njihov prvi koncert na senčni strani Alp. \nhttps://youtheband.bandcamp.com/releases\nhttps://www.youtube.com/watch?v=oC3YcMcT_xA \n  \nIgel vs. Shark (Avstrija)\nAvstrijska zasedba\, ki že od leta 2009 piči čisto umazano rock muziko. v 10 letih delovanja so zaradi energičnih nastopov v živo\, že imeli priložnost nastopati kot predskupina svetovno znanim izvajalcem kot so AC/DC\, Airbourne\, Flogging molly..\n“We are the dirt under your fingernails!” \nhttps://soundcloud.com/igel-vs-shark\nhttps://www.youtube.com/watch?v=RVz2FzeSoCo\nhttps://www.youtube.com/watch?v=47ohLKys60U \nRelentless Youth\nje (predvsem) hardcore punk skupina\, ki je nastala leta 2011. Predstavili so se s singlom Drowning. Po približno dveh letih igranja po manjših odrih (Orto Bar\, Jalla Jalla Akc Metelkova\, Rock in Rovte…) je skupina zaradi različnih interestov članov razpadla. Na začetku leta 2016\, so se vrnili v novi zasedbi\, proti koncu leta pa so izdali prvi EP “Resentment”. Vrnitev skupine so potrdili tudi z nastopi na Drunk in Public\, Zlüftaj se!\, KVŠ Zakon in nekaj drugih eventih. Trenutno delajo na novem albumu\, ki bo izšel v letu 2019. \nhttps://www.youtube.com/watch?v=Jc7epFLWaBo\nhttps://www.youtube.com/watch?v=SM2psnvPY08 \n  \nDJane Bruxa\nHišna čarovnica\, ki bo z izborom glasbe poskrbela za ples do konca! \n  \n  \n 
URL:https://cmakcerkno.net/event/cmakoncert-you-mk-djane-bruxa/
LOCATION:C.M.A.K. Cerkno\, Bevkova ulica 22\, Cerkno\, 5282\, Slovenija
CATEGORIES:CMAKoncert
ATTACH;FMTTYPE=image/jpeg:https://cmakcerkno.net/wp-content/uploads/2019/01/YOU.jpg
END:VEVENT
END:VCALENDAR