BEGIN:VCALENDAR
VERSION:2.0
PRODID:-//C.M.A.K. Cerkno - ECPv5.10.0//NONSGML v1.0//EN
CALSCALE:GREGORIAN
METHOD:PUBLISH
X-WR-CALNAME:C.M.A.K. Cerkno
X-ORIGINAL-URL:https://cmakcerkno.net
X-WR-CALDESC:Events for C.M.A.K. Cerkno
BEGIN:VTIMEZONE
TZID:Europe/Ljubljana
BEGIN:DAYLIGHT
TZOFFSETFROM:+0100
TZOFFSETTO:+0200
TZNAME:CEST
DTSTART:20180325T010000
END:DAYLIGHT
BEGIN:STANDARD
TZOFFSETFROM:+0200
TZOFFSETTO:+0100
TZNAME:CET
DTSTART:20181028T010000
END:STANDARD
END:VTIMEZONE
BEGIN:VEVENT
DTSTART;TZID=Europe/Ljubljana:20180317T210000
DTEND;TZID=Europe/Ljubljana:20180317T210000
DTSTAMP:20260420T074320
CREATED:20180225T123053Z
LAST-MODIFIED:20180306T085827Z
UID:2809-1521320400-1521320400@cmakcerkno.net
SUMMARY:DEUJE BABE: Tús Nua (Hr) / 7AM
DESCRIPTION:Tretji vikend Festival DEUJE BABE se nam bodo na CMAKoncertu predstavile: \nTús Nua\nTri dekleta iz Zagreba s samosvojim atmosferičnim shoegaze post rockom peljejo na izlet po neskončnih in ne/poznanih zasanjanih glasbenih pokrajinah. Njihov prvenec Horizons\, ki bo aprila pri Seattle-ski založbiWeltraum-Wal Records izšel tudi v obliki kasete\, so mnoge založbe in glasbene lestvice iz območja bivše Jugoslavije uvrstile med boljše albume\, ki so izšli leta 2017.\n9. Januarja letos je bila njihova pesem »Fight!« izbrana za pesem dneva naKEXP. Za vse\, ki vas prepričajo bendi kot so Mogwai\, Sigur Ros\, Alice in Chains\, Depeche Mode\, Slowdive\, DIIV… \nhttps://tus-nua.bandcamp.com/\nhttps://www.youtube.com/watch?v=auzTwBUUl7o \n7AM – on tour\nZačetki 7AM so zaviti v tančico skrivnosti\, konec pa je jasen – smrt enega od dveh ustanovnih članov. Nekje na poti se je duetu pridružil bobnar. igrajo predvsem glasno glasbo\, ne verjamejo pa v glasbene zvrsti. Največje protislovje je če jih poskušamo opredeliti kot garažni rock\, saj imajo vaje v svinjaku. In čeprav ljubijo pujske\, jih tudi jedo. Verjetno so licemerci\, tako kot ves ostali svet. Lani so bili klubski maratonci Radio Študent 89\,3 MHz\, letošnje leto pa so začeli z nekaj deset koncerti širom Evrope. \nhttps://sevenamband.com/\nhttps://www.youtube.com/watch?v=oqjSSUY00WY
URL:https://cmakcerkno.net/event/cmakoncert-tus-nua-hr-7am/
LOCATION:C.M.A.K. Cerkno\, Bevkova ulica 22\, Cerkno\, 5282\, Slovenija
CATEGORIES:CMAKoncert
END:VEVENT
END:VCALENDAR