BEGIN:VCALENDAR
VERSION:2.0
PRODID:-//C.M.A.K. Cerkno - ECPv5.10.0//NONSGML v1.0//EN
CALSCALE:GREGORIAN
METHOD:PUBLISH
X-WR-CALNAME:C.M.A.K. Cerkno
X-ORIGINAL-URL:https://cmakcerkno.net
X-WR-CALDESC:Events for C.M.A.K. Cerkno
BEGIN:VTIMEZONE
TZID:Europe/Ljubljana
BEGIN:DAYLIGHT
TZOFFSETFROM:+0100
TZOFFSETTO:+0200
TZNAME:CEST
DTSTART:20170326T010000
END:DAYLIGHT
BEGIN:STANDARD
TZOFFSETFROM:+0200
TZOFFSETTO:+0100
TZNAME:CET
DTSTART:20171029T010000
END:STANDARD
END:VTIMEZONE
BEGIN:VEVENT
DTSTART;TZID=Europe/Ljubljana:20171229T210000
DTEND;TZID=Europe/Ljubljana:20171229T210000
DTSTAMP:20260420T121640
CREATED:20171212T192654Z
LAST-MODIFIED:20171212T192654Z
UID:2587-1514581200-1514581200@cmakcerkno.net
SUMMARY:CMAKoncert: Trije Muškištirje
DESCRIPTION:Kot vsak konec leta bo tudi letos v Cerknem zaživel Cmakov štant\, ki bo potekal na Gabrijelovem vrtu od 22. do 29 decembra.\nZadnji dan dan štanta nas bodo zvečer v MC C.M.A.K. Cerkno na CMAKoncertu ogreli Trije muškištirje. \nSkupina Trije muškištirje se je formirala leta 2016 v Franciji.\nČlani skupine so se spoznali na na gostovanju v St. Tropez-u s KD Simfonični orkester Cantabile. Povezuje jih ljudska glasba z razgibanimi aranžmaji in zanimivim zvokom akustičnih inštrumentov.\nDa gre za kvalitetno in zanimivo skupino\, ki nas zagotovo ne bo pustila hladnih\, pričajo številna sodelovanja muškištirjev z raznoraznimi slovenskimi glasbeniki in bendi. \nDanijel Bogataj je violinist skupine Čedahuči in kitarist pri zasedbi Good Vibrations in Fed Horses \nJure Maček je odličen bobnar in tolkalist ki sodeluje z različnimi glasbeniki\, kot so: Gal Gjurin\, Čedahučii\, Severa Gjurin\, Tinkara Kovac\, swing zasedbo Mopedi… \nNejc Klun je zelo mlad kontrabasist\, ki veliko obeta\, s skupino Salt PeeNutsse počasi in vztrajno prebija na slovensko jazz sceno. \nRok Škrlj pri Treh muškištirjih igra ukulele\, obvlada pa tudi klarinet ter bass kitaro. Je učitelj v glasbeni šoli Godalkanje\, poleg tega pa je tudi član zasedbFed Horses\, Samo Budna & Band\, Jacuzzy Krall\, Simbolični Orkester inD’Zombies.
URL:https://cmakcerkno.net/event/cmakoncert-trije-muskistirje/
LOCATION:C.M.A.K. Cerkno\, Bevkova ulica 22\, Cerkno\, 5282\, Slovenija
CATEGORIES:CMAKoncert
END:VEVENT
END:VCALENDAR