BEGIN:VCALENDAR
VERSION:2.0
PRODID:-//C.M.A.K. Cerkno - ECPv5.10.0//NONSGML v1.0//EN
CALSCALE:GREGORIAN
METHOD:PUBLISH
X-WR-CALNAME:C.M.A.K. Cerkno
X-ORIGINAL-URL:https://cmakcerkno.net
X-WR-CALDESC:Events for C.M.A.K. Cerkno
BEGIN:VTIMEZONE
TZID:Europe/Ljubljana
BEGIN:DAYLIGHT
TZOFFSETFROM:+0100
TZOFFSETTO:+0200
TZNAME:CEST
DTSTART:20240331T010000
END:DAYLIGHT
BEGIN:STANDARD
TZOFFSETFROM:+0200
TZOFFSETTO:+0100
TZNAME:CET
DTSTART:20241027T010000
END:STANDARD
END:VTIMEZONE
BEGIN:VEVENT
DTSTART;TZID=Europe/Ljubljana:20240413T200000
DTEND;TZID=Europe/Ljubljana:20240413T200000
DTSTAMP:20260420T202218
CREATED:20240320T121418Z
LAST-MODIFIED:20240320T121511Z
UID:5491-1713038400-1713038400@cmakcerkno.net
SUMMARY:CMAKoncert: Time keeper\, Samokres
DESCRIPTION:TIME KEEPER: Štiričlanska funk/rock zasedba iz kreativne cone Vrtojba na Goriškem. Zasedba je nastala sprva kot trio v času drugega koronskega vala (april 2021) z željo po raziskovanju in ustvarjanju preproste\, udarne a hkrati jazzovsko sočne avtorske glasbe. Lani spomladi so se odločili da band kot tak potrebuje pevca in frontmana\, zato se jim je pridružil Jernej Štravs. \n\n\n\n\n\n\n\nJernej Štravs – Vocals Jaša Krkoč – Guitar\, vocals Andrej Batič – Bass\, vocals Jaka Podgornik – Drums FB: https://www.facebook.com/profile.php?id=100086992370594 YT: https://www.youtube.com/@timekeeper6066/videos \n\n\n\nSAMOKRES: so nov mladi bend\, ki prihaja iz okolice Nove Gorice in Goriških Brd. Primorski energični rock\, obarvan z ostrim progresivnim zvokom\, psihedelično sanjavostjo in vplivi iz celega svetaSimbolizira iskro\, ki nastane ob streljanju starodavne pištole. Zajema trenutek intenzivne energije in rojstva nečesa mogočnega. Ta združuje elemente zgodovinskih zvokov\, ki črpajo navdih iz tradicionalne glasbe\, s sodobnimi in inovativnimi zvočnimi krajinami. Glasbo pod to zastavo zaznamujejo eksplozivni ritmi\, dinamične kompozicije in splošen občutek vžiga – plamen vas popelje na sanjavo potovanje. \n\n\n\n\n\n\n\nFB: https://www.facebook.com/samokres.band/ \n\n\n\nCikel CMAKoncert: podpirata Občina Cerkno in Urad RS za mladino.
URL:https://cmakcerkno.net/event/cmakoncert-time-keeper-samokres/
LOCATION:Dvorišče pred VCC\, Bevkova ulica 22\, Cerkno\, 5282\, Slovenija
CATEGORIES:CMAKoncert
END:VEVENT
END:VCALENDAR