BEGIN:VCALENDAR
VERSION:2.0
PRODID:-//C.M.A.K. Cerkno - ECPv5.10.0//NONSGML v1.0//EN
CALSCALE:GREGORIAN
METHOD:PUBLISH
X-WR-CALNAME:C.M.A.K. Cerkno
X-ORIGINAL-URL:https://cmakcerkno.net
X-WR-CALDESC:Events for C.M.A.K. Cerkno
BEGIN:VTIMEZONE
TZID:Europe/Ljubljana
BEGIN:DAYLIGHT
TZOFFSETFROM:+0100
TZOFFSETTO:+0200
TZNAME:CEST
DTSTART:20180325T010000
END:DAYLIGHT
BEGIN:STANDARD
TZOFFSETFROM:+0200
TZOFFSETTO:+0100
TZNAME:CET
DTSTART:20181028T010000
END:STANDARD
END:VTIMEZONE
BEGIN:VEVENT
DTSTART;TZID=Europe/Ljubljana:20181201T210000
DTEND;TZID=Europe/Ljubljana:20181201T235900
DTSTAMP:20260421T081314
CREATED:20181112T194501Z
LAST-MODIFIED:20181114T120055Z
UID:3168-1543698000-1543708740@cmakcerkno.net
SUMMARY:CMAKoncert: Suzi Soprano in Hak Attak
DESCRIPTION:Trio Suzi soprano se poigrava s surovostjo in preprostostjo ter brezkompromisno udriha po kitari in bobnih. Zasedba črpa iz številnih žanrov\, zadiši pa po bendih\, kot so Gang of Four\, Kyuss\, Jesus Lizard\, Otroci socializma\, Nirvana in še kaj. \nOd zastrupljanja z živim srebrom do rudarjenja bitcoinov. Kaj je bolj hardcore? Odgovor je HakAttak\, zastavonoše idrijskega untergrunta. Žgejo ga ne glede na vzpone in padce kriptovalut. Odrešeni vseh verig\, tudi blockchainov.
URL:https://cmakcerkno.net/event/cmakoncert-suzi-soprano-in-hak-attak/
LOCATION:C.M.A.K. Cerkno\, Bevkova ulica 22\, Cerkno\, 5282\, Slovenija
CATEGORIES:Koncert
ATTACH;FMTTYPE=image/jpeg:https://cmakcerkno.net/wp-content/uploads/2018/11/punski.jpg
END:VEVENT
END:VCALENDAR