BEGIN:VCALENDAR
VERSION:2.0
PRODID:-//C.M.A.K. Cerkno - ECPv5.10.0//NONSGML v1.0//EN
CALSCALE:GREGORIAN
METHOD:PUBLISH
X-WR-CALNAME:C.M.A.K. Cerkno
X-ORIGINAL-URL:https://cmakcerkno.net
X-WR-CALDESC:Events for C.M.A.K. Cerkno
BEGIN:VTIMEZONE
TZID:Europe/Ljubljana
BEGIN:DAYLIGHT
TZOFFSETFROM:+0100
TZOFFSETTO:+0200
TZNAME:CEST
DTSTART:20250330T010000
END:DAYLIGHT
BEGIN:STANDARD
TZOFFSETFROM:+0200
TZOFFSETTO:+0100
TZNAME:CET
DTSTART:20251026T010000
END:STANDARD
END:VTIMEZONE
BEGIN:VEVENT
DTSTART;TZID=Europe/Ljubljana:20250315T193000
DTEND;TZID=Europe/Ljubljana:20250315T193000
DTSTAMP:20260421T011200
CREATED:20250205T195705Z
LAST-MODIFIED:20250302T222504Z
UID:5637-1742067000-1742067000@cmakcerkno.net
SUMMARY:CMAKoncert: SickBreed in Razstava: Društvo ROV Železniki
DESCRIPTION:Vabljeni na kulturni večer! \n\nNajprej ob 19.30 v Galeriji Stopnišče poteka otvoritev razstave fotografij Fotosekcije članov KD ROV Železniki. Fotografije bodo razstavili: Mark Rakovec\, Tadej Mohorič\, Robert Prezelj in Gregor Galjot. Lahko jih boste tudi kaj vprašali\, če si upate. \n \n\n\nOb 20.15 bo nastopil So-Železnikarski fenomen Enštalc.\n\n𝐄𝐧𝐬̌𝐭𝐚𝐥𝐜 je pank & skank one man band projekt iz Železn’kov\, poln vihravih besedil in žgočih rifov. Izdal je že več plošč\, najnovejša “Plozanje za hišno rabo” pa je luč sveta ugledala lanskega novembra. \n\n\nhttps://enstalc.bandcamp.com/ \n\n\n \nZa njim pa sledijo mladi grundžerji z Viča\, SickBreed! \n𝐒𝐢𝐜𝐤𝐁𝐫𝐞𝐞𝐝 že od leta 2018 z energijo in surovim zvokom Grunge/Post Punk glasbe osvajajo odre po Sloveniji. Po zaključku akustične faze se z novim zagonom vračajo na klubske odre\, kjer želijo ponovno predstaviti avtorski material v njegovi polni\, električni moči.\n\nhttps://www.youtube.com/watch?v=nFizPceYN7w  \nhttps://www.youtube.com/watch?v=aE45UONaAdA  \nhttps://sickbreed.bandcamp.com/  \nhttps://www.instagram.com/sickbreedband/  \n\n\n \nIzdali so tri albume: »Še Eno Isto!«\, »Depraving the Righteous« in »The Joy in Deception«\, ki že definirajo njihovo publiko. Glasbo spremlja tudi osem videospotov\, med katerimi so Pink\, Separation in The Joy in Deception\, ter sledeči singli\, ki so prejeli pozitivne odzive (Luna\, Nostalgic Analogies\, The Mirrors Words\, What About Orchids?!). \n \n\n\nNastopali so na mnogih prizoriščih in festivalih po vsej Sloveniji\, med drugimi: Orto Bar\, KIŠD\, CMK\, MCC\, Gala Hala\, Menza pri Koritu\, Rock in Rovte\, KornetPolet\, Žalska Noč Mladih in mnogimi drugimi.
URL:https://cmakcerkno.net/event/cmakoncert-sickbreed/
LOCATION:MC CMAK Cerkno\, Predavalnica VCC\, Bevkova 22
CATEGORIES:CMAKoncert,Razstava
END:VEVENT
END:VCALENDAR