BEGIN:VCALENDAR
VERSION:2.0
PRODID:-//C.M.A.K. Cerkno - ECPv5.10.0//NONSGML v1.0//EN
CALSCALE:GREGORIAN
METHOD:PUBLISH
X-WR-CALNAME:C.M.A.K. Cerkno
X-ORIGINAL-URL:https://cmakcerkno.net
X-WR-CALDESC:Events for C.M.A.K. Cerkno
BEGIN:VTIMEZONE
TZID:Europe/Ljubljana
BEGIN:DAYLIGHT
TZOFFSETFROM:+0100
TZOFFSETTO:+0200
TZNAME:CEST
DTSTART:20210328T010000
END:DAYLIGHT
BEGIN:STANDARD
TZOFFSETFROM:+0200
TZOFFSETTO:+0100
TZNAME:CET
DTSTART:20211031T010000
END:STANDARD
END:VTIMEZONE
BEGIN:VEVENT
DTSTART;TZID=Europe/Ljubljana:20211229T200000
DTEND;TZID=Europe/Ljubljana:20211229T200000
DTSTAMP:20260422T121925
CREATED:20211202T142110Z
LAST-MODIFIED:20211206T114028Z
UID:4552-1640808000-1640808000@cmakcerkno.net
SUMMARY:CMAKoncert: Samuel Blues / Miha Erič
DESCRIPTION:Orglice. Kitara. Glas in (tudi) stas. Miha Erič in Samuel Blues. \n\n\nZ njima bomo ”zabluzili” v kulturnem domu ”ZORA” v Ravnah pri Cerknem\, na zadnjem iz cikla CMAKoncertov letnik dva nič dva ena. Predstavila se bosta v kantavtorski maniri\, skupaj pa zagodla tudi kakšno iz njunega skupnega albuma ”Transformator”. \n\n\nSamuel Blues je zagotovo eden najvidnešjih predstavnikov svoje zvrsti na domači sceni\, ki je znan po svojevrstnem stilu\, surovi in globoki hipnotični muziki ter raskavem glasu.\nVse pesmi napiše in posname sam v svoji domači sobi. Snema analogno\, na magnetni trak za štiri zvokovne sledi (4-track)\, ”po domače” z lo-fi tehniko. Do sedaj je izdal 7 albumov\, zadnjega ”Triglavski Narodni Pank” letos poleti.\n\nhttps://samuel13.bandcamp.com/ \n\n\nMiha Erič je glasbenik\, likovnik in fotr. Svoje glasbene inspiracije izraža z ustno harmoniko\, lap steel kitaro in tolkali\, katerih zvoke obogati še z močnim vokalom. Je stara duša\, zbiratelj starin in vsi tisti\, ki poznate njegove komade veste\, da tudi odličen pisec besedil. Sodeluje (in je sodeloval) s številnimi glasbeniki v Sloveniji in tujini.\n\nhttps://miha-eric-art.com/ \n \n\nVstop prost\, zaželjen prostovoljni prispevek.\nDogodek bo izveden upoštevajoč trenutne veljavne epidemiološke ukrepe.
URL:https://cmakcerkno.net/event/cmakoncert-samuel-blues-miha-eric/
LOCATION:Dvorana KUD Zora Ravne\, Ravne pri Cerknem 8\, Cerkno\, 5282\, Slovenija
CATEGORIES:CMAKoncert
END:VEVENT
END:VCALENDAR