BEGIN:VCALENDAR
VERSION:2.0
PRODID:-//C.M.A.K. Cerkno - ECPv5.10.0//NONSGML v1.0//EN
CALSCALE:GREGORIAN
METHOD:PUBLISH
X-WR-CALNAME:C.M.A.K. Cerkno
X-ORIGINAL-URL:https://cmakcerkno.net
X-WR-CALDESC:Events for C.M.A.K. Cerkno
BEGIN:VTIMEZONE
TZID:Europe/Ljubljana
BEGIN:DAYLIGHT
TZOFFSETFROM:+0100
TZOFFSETTO:+0200
TZNAME:CEST
DTSTART:20240331T010000
END:DAYLIGHT
BEGIN:STANDARD
TZOFFSETFROM:+0200
TZOFFSETTO:+0100
TZNAME:CET
DTSTART:20241027T010000
END:STANDARD
END:VTIMEZONE
BEGIN:VEVENT
DTSTART;TZID=Europe/Ljubljana:20240330T200000
DTEND;TZID=Europe/Ljubljana:20240330T200000
DTSTAMP:20260420T202153
CREATED:20240320T120443Z
LAST-MODIFIED:20240320T120443Z
UID:5478-1711828800-1711828800@cmakcerkno.net
SUMMARY:CMAKoncert: Psihedelavci\, The Kripless\, Uryan
DESCRIPTION:CMAKoncertni večer\, sestavljen iz treh električno in distorzijsko ozaveščenih bendov – Kraševci Psihedelavci\, Slovenjgradčani Uryan\, ter sveži\, a prešvicani lokalci iz Cerkljanske\, The Kripless!\n\nℙ𝕊𝕀ℍ𝔼𝔻𝔼𝕃𝔸𝕍ℂ𝕀\nPsihedelavci so trio\, ki goji izročilo kitarske psihedelične glasbe z alternativnimi zvočnimi začimbami. Sanjavi in mehki\, a obenem družbenokritični\, pekoči in ostri kot kraška burja.\nSo domači poborniki spontane psihedelične kitarske godbe. Bend sestavljajo Martin Ukmar\, Nastja Janžekovič in Samo Pavlica – Linch\, ki kot trio že vrsto let ustvarjajo na relaciji Kras–Ljubljana in so do sedaj sodelovali v raznih glasbenih kombinacijah.\nRdečo nit njihovega glasbenega izraza začinja impresivna pripovedniška in nadrealistična lirika\, ki prevprašuje elementarna eksistenčna vprašanja posameznika in družbe.\n\nBC: https://psihedelavci.bandcamp.com/\nFB: https://www.facebook.com/psihedelavci\nYT: https://www.youtube.com/watch?v=g3wodbjEY5Y\n\n𝕋ℍ𝔼 𝕂ℝ𝕀ℙ𝕃𝔼𝕊𝕊\nKi j zej tu?! Ravne\, Porto\, Radenci\, združeni na Cerkljanskem!\nHC punk trojica\, ki zelo rada zapluje v stoneRnR vode.\nČeprav ustvarjajo na Zorinem podstrešju\, so zapriseženi underground in D.I.Υ. etiki.\nGi!\n\nFB: https://www.facebook.com/profile.php?id=61555500067893\nYT: https://www.youtube.com/watch?v=4RW5aNlozrI\n\n𝕌ℝ𝕐𝔸ℕ\nUryan je slovenjgraški četverec\, ki prisega na glasno garažno fuzz popevkarsko rock glasbo. Večni popotniki po zemljevidu rock riffov\, so prava osvežitev na domači kitarski sceni.\nLani decembra so pri založbi Radia Študent izdali svoj prvi dolgometražni album\, Vol. 1.\n\nBC: https://zars.bandcamp.com/album/vol-1-2\nFB: https://www.facebook.com/profile.php?id=100091564853767\nIG: https://www.instagram.com/uryan.band/\nYT: https://www.youtube.com/watch?v=_z2MPddD4t0
URL:https://cmakcerkno.net/event/cmakoncert-psihedelavci-the-kripless-uryan/
LOCATION:MC CMAK Cerkno\, Predavalnica VCC\, Bevkova 22
CATEGORIES:CMAKoncert
END:VEVENT
END:VCALENDAR