BEGIN:VCALENDAR
VERSION:2.0
PRODID:-//C.M.A.K. Cerkno - ECPv5.10.0//NONSGML v1.0//EN
CALSCALE:GREGORIAN
METHOD:PUBLISH
X-WR-CALNAME:C.M.A.K. Cerkno
X-ORIGINAL-URL:https://cmakcerkno.net
X-WR-CALDESC:Events for C.M.A.K. Cerkno
BEGIN:VTIMEZONE
TZID:Europe/Ljubljana
BEGIN:DAYLIGHT
TZOFFSETFROM:+0100
TZOFFSETTO:+0200
TZNAME:CEST
DTSTART:20150329T010000
END:DAYLIGHT
BEGIN:STANDARD
TZOFFSETFROM:+0200
TZOFFSETTO:+0100
TZNAME:CET
DTSTART:20151025T010000
END:STANDARD
END:VTIMEZONE
BEGIN:VEVENT
DTSTART;TZID=Europe/Ljubljana:20150509T220000
DTEND;TZID=Europe/Ljubljana:20150509T235500
DTSTAMP:20260420T225558
CREATED:20150311T194853Z
LAST-MODIFIED:20150417T140019Z
UID:1038-1431208800-1431215700@cmakcerkno.net
SUMMARY:CMAKoncert: One Burning Match (Fr) + Iamdisease
DESCRIPTION:Na majevskem oz. predzadnjem CMAKoncertu pred poletnim predahom vam predstavljamo dve udarni skupini\, in sicer One Burning Match iz Francije ter Iamdisease iz Wajdušne/Gorice. \nFrancozi One Burning Match igrajo mešanico hardcore-a in punka z udarnimi melodijami\, zase pa pravijo\, da inspiracijo iščejo pri bendih kot so From Ashes Rise\, Come Back Kids\, Momentum in drugi. \nŠtiričlanska skupina je s svojim delovanjem začela v maju 2012\, že kmalu po ustanovitvi pa so pričeli z delom na svojem istoimenskem prvencu. Od novembra 2013 ter skozi celotno leto 2014 so bili veliko na poti: prekrižarili so celotno Francijo in tudi Evropo. V začetku letošnjega leta so izdali novo 7” ploščo z naslovom »The Resistance Archipelago«\, ki jo predstavljajo tudi na turneji\, v okviru katere se bodo ustavili tudi v Cerknem. \nhttp://www.oneburningmatch.com/ \nhttps://www.facebook.com/pages/One-Burning-Match/494715767274551?fref=ts \nhttp://oneburningmatch.bandcamp.com/ \n  \nIamdisease je slovenska skupina\, ki igra temačen in jezen hardcore z močnimi vplivi metala\, crusta in sludge-a. Kot pravijo\, se njihova glasba osredotoča na temačno stran človeške narave in na nezaslišanost informacijske družbe. Temu navkljub pa sporočilo skupine ni predaja ali obup\, temveč upanje na spremembe na boljše za vsakogar od nas. Decembra so izdali svoj prvenec z naslovom »Praznina«. \nČlani zasedbe Iamdisease igrajo ali pa so igrali v »zloglasnih« skupinah novogoriške in ajdovske hardcore scene kot so Elodea\, Man in the Shadow\, Kennybal smith\, A Murder Theory\, The Hoax Program\, Low Punch in drugih. \nhttps://www.facebook.com/iamdisease?fref=ts \nhttps://iamdisease.bandcamp.com/
URL:https://cmakcerkno.net/event/cmakoncert-one-burning-match-fr-se-kdo/
LOCATION:C.M.A.K. Cerkno\, Bevkova ulica 22\, Cerkno\, 5282\, Slovenija
CATEGORIES:CMAKoncert
ATTACH;FMTTYPE=image/jpeg:https://cmakcerkno.net/wp-content/uploads/2015/03/CMAKoncert-Iamdisease-OBM.jpg
END:VEVENT
END:VCALENDAR