BEGIN:VCALENDAR
VERSION:2.0
PRODID:-//C.M.A.K. Cerkno - ECPv5.10.0//NONSGML v1.0//EN
CALSCALE:GREGORIAN
METHOD:PUBLISH
X-WR-CALNAME:C.M.A.K. Cerkno
X-ORIGINAL-URL:https://cmakcerkno.net
X-WR-CALDESC:Events for C.M.A.K. Cerkno
BEGIN:VTIMEZONE
TZID:Europe/Ljubljana
BEGIN:DAYLIGHT
TZOFFSETFROM:+0100
TZOFFSETTO:+0200
TZNAME:CEST
DTSTART:20230326T010000
END:DAYLIGHT
BEGIN:STANDARD
TZOFFSETFROM:+0200
TZOFFSETTO:+0100
TZNAME:CET
DTSTART:20231029T010000
END:STANDARD
END:VTIMEZONE
BEGIN:VEVENT
DTSTART;TZID=Europe/Ljubljana:20231229T200000
DTEND;TZID=Europe/Ljubljana:20231229T200000
DTSTAMP:20260420T135229
CREATED:20231201T123229Z
LAST-MODIFIED:20231228T133916Z
UID:5405-1703880000-1703880000@cmakcerkno.net
SUMMARY:CMAKoncert: Matter + Greg Even + Jah Mood On Je + After: De-lima DJ set
DESCRIPTION:Petek\, 29.12. ob 20.00 Dvorana KUD Zora\, Ravne pri Cerknem \n\n\n\nLetošnji CMAKoncertni cikel zaključujemo s specialnimi (anti)(t)reperji\, ki že kar nekaj let z vrhunsko produkcijo puščajo svojo sled na sceni – Matter! Pospremila pa jih bo cela bera odličnih glasbenikov – Greg Even\, Jah Mood on Je\, in De-Lima! \nIn kje bolje praznovati čarodejni prednovoletni čas\, kot v dvorani KUD Ravne? \n\n\n\nVstop: 5€ \n\n\n\nNa dogodek bo organiziran tudi prevoz s kombijem\, Borut bo z njim štartal iz Cerkna ob 19.30\, ob 20.30 in 21.30 – nazaj v Cerkno pa bo vozil od 1.00 dalje. Njegova tel. št. : 031514829 Cena prevoza je 1€ v eno smer. 💸Pobiral bo pred parkiriščem ob nekdanji stavbi policije (ob Cvetličarni Rožca). Mesta so omejena\, zato bodite točni! \n\n\n\n  \n\n\n\n\n\n\n\nMatter  je kamniški trojec z edinstveno sodobnim (anti)raperskim slogom in je postapokaliptični boyband. Na meji med (samo)ironijo\, abstraktnimi besednimi igrami\, nesmiselnimi domislicami in konkretnim družbenim angažmajem. Je zvok izpod kamniških gora in je abstraktna zmeda v oblakih. Je rap in ni Rap. Mrki flow. Matter so dvoživke\, ki živijo dvojno življenje\, med čistim popom in zapletenim podzemljem\, lucidnostjo in naključno zmedo\, kamnikfolično lokalnostjo in abstraktno poezijo. In\, ki jih s slovenskimi raperji druži izključno dejstvo\, da pogosto posežejo po mediju videospota z jasnim stilskim pečatom. \n\n\n\n🎶 ~ spot Satelit ~ https://www.youtube.com/watch?v=7SCQYxin0xU ~ spot Safari ~ https://www.youtube.com/watch?v=VdQvhQg1nkY ~ album HAOS ~ https://rxtx.bandcamp.com/album/haos ~ album Amphibios ~ https://rxtx.bandcamp.com/album/amphibios \n\n\n\n\n\n\n\nGregor Treven – Greg Even Slovenski ali bolje rečeno cerkljanski producent in izvajalec ki ustvarja pod umetniškim imenom Greg Even. \n\n\n\nGregor Kot “ghost producer” sodeluje z različnimi tujimi založbami in producenti. Producira različne zvrsti glasbe\, od hip hopa\, jungle drum n bassa\, dubstepa\,… najbližji pa mu je reggae. Ima tudi lastno reggae dub založbo z imenom Such A Vibe Records\, pri kateri izdaja predvsem svoje skladbe. \n\n\n\n🎶 ~ Spotify ~ https://open.spotify.com/artist/7ohOAaAzIRCz4YfCw4xDCn ~ FB ~ https://www.facebook.com/gregor.treven.5/ ~ FB Jah Mood On Je ~ https://www.facebook.com/profile.php?id=61550842253419 \n\n\n\n\n\n\n\nJah Mood On Je Collective je reggae/dub kolektiv sestavljen iz producentov\, DJ-jev in glasbenikov\, ki prihajajo iz različnih koncev Slovenije in tujine. V Ravne tokrat pridejo člani Greg Even\, Jacuzzy Krall in Stenlisha. \n\n\n\nPobudnika za tvorbo kolektiva sta Jacuzzy in Greg\, katerima je dal zagon izdan EP Greg Even & Jacuzzy Krall – ‘’INNA REGGAE MOOD’’\, kljub angleškemu naslovu pa je vseh pet pesmi v slovenskem jeziku! \n\n\n\nMedtem ko sta ustvarjala EP so se njune umetniške poti prepletle z mnogimi ustvarjalci\, kjer sta prepoznala priložnost za tvorbo reggae kolektiva uveljavljenih umetnikov. \n\n\n\nTokom njunega snemanja EP-ja sta pričela sodelovati z vedno večimi priznanimi ustvarjalci na glasbeniin in gledališki sceni\, katere sta kasneje povabila v reggae/dub kolektiv. \n\n\n\nSedaj so združeni v en kolektiv\, kjer se naš moto glasi: “ One love & good vibes!” – ‘’Ena ljubezen in dobre vibracije’’. ❤️ & ✌️ \n\n\n\nCelotni kolektiv sestavljajo: Mate Brodar – Bro: vokal David Kovšca (Buda): vokal Lea Cok: vokal\, igralka Gregor Treven (Greg Even): produkcija Jacuzzy Krall: vokal Dorotea Nikolić (Stenlisha): vokal Tadej Tratnik (Tadiman): vokal Igor Šon (Haris Pilton): produkcija\, vokal \n\n\n\n🎶 ~ spot Življenje je avdicija za smrt ~ https://www.youtube.com/watch?v=Ae7oFuvtKzU ~ Inna Reggae Mood EP ~ https://www.youtube.com/watch?v=sfJHphKfa_A \n\n\n\n\n\n\n\nGašper Tavčar – De-Lima  dolgoletni član kolektiva Smoke In Crew\, ki je imel bazo v Cmakovi Tinčkovi bajti. Prav tam ga je prijatelj in DJ\, Bani naučil osnov sukanja in mu posodil nekaj vinilk. \n\n\n\nOd takrat naprej De-Lima redno ustvarja in je do sedaj nastopal že na mnogih partijih širom Slovenije. Sodeloval je tudi na treh od skupno petih izdanih kompilacijskih ploščah Smoke In crewa\, s katerimi so organizirali nešteto partijev na Idrijskem in Cerkljanskem. \n\n\n\n🎶 ~ Soundcloud ~ https://soundcloud.com/de-lima ~ Mixcloud ~ https://www.mixcloud.com/DjDeLima/ ~ Smoke In kompilacije ~ https://cmak.bandcamp.com/
URL:https://cmakcerkno.net/event/cmakoncert-matter/
LOCATION:Dvorana KUD Zora Ravne\, Ravne pri Cerknem 8\, Cerkno\, 5282\, Slovenija
CATEGORIES:CMAKoncert
END:VEVENT
END:VCALENDAR