BEGIN:VCALENDAR
VERSION:2.0
PRODID:-//C.M.A.K. Cerkno - ECPv5.10.0//NONSGML v1.0//EN
CALSCALE:GREGORIAN
METHOD:PUBLISH
X-WR-CALNAME:C.M.A.K. Cerkno
X-ORIGINAL-URL:https://cmakcerkno.net
X-WR-CALDESC:Events for C.M.A.K. Cerkno
BEGIN:VTIMEZONE
TZID:Europe/Ljubljana
BEGIN:DAYLIGHT
TZOFFSETFROM:+0100
TZOFFSETTO:+0200
TZNAME:CEST
DTSTART:20160327T010000
END:DAYLIGHT
BEGIN:STANDARD
TZOFFSETFROM:+0200
TZOFFSETTO:+0100
TZNAME:CET
DTSTART:20161030T010000
END:STANDARD
END:VTIMEZONE
BEGIN:VEVENT
DTSTART;TZID=Europe/Ljubljana:20160213T220000
DTEND;TZID=Europe/Ljubljana:20160213T235500
DTSTAMP:20260421T192008
CREATED:20160129T191253Z
LAST-MODIFIED:20160129T191411Z
UID:1765-1455400800-1455407700@cmakcerkno.net
SUMMARY:CMAKoncert: ManiacS in Vibesonic Jam
DESCRIPTION:Ob praznovanju 19. obletnice ustanovitve Cerkljanskega mladinskega alternativnega kluba vas vabimo na koncert zasedb ManiacS in Vibesonic Jam.MANIACSLeta 2010 so se mladi nadebudni glasbeniki združili v skupino ManiacS in pričeli s preigravanjem rock in punk-rock uspešnic. Po svojem prvem nastopu so začutili željo po ustvarjanju avtorske glasbe. Po tem je imela skupina še nekaj manjših koncertov. V letu 2013 je skupino zapustil bobnar Jaka Logar in nadomestil ga je Žiga Mlinar. Nadaljevali so z ustvarjanjem avtorske glasbe in nastopanjem na bližnjih prizoriščih. V letu 2013 in 2014 so nastopili na dogodkih kot so Rock in Rovte\, Čipkarija in Lokalna scena Žiri. Nastopali so pred znanimi slovenskimi skupinami kot so Big Foot Mama\, Prisluhnimo tišini\, Happy ol’ Mcweasel\, Hladno Pivo itd. V letu 2015 so posneli tudi nekaj avtorskih skladb. Danes so predvsem usmerjeni k ustvarjanju avtorske glasbe. \nTrenutni člani skupine so Primož Arhar\, Matic Kunc\, Andraž Jereb\, Ambrož Cigale in Žiga Mlinar. \nVIBESONIC JAM\nVibesonic Jam je ptujska zasedba\, ki vsebuje izkušena stara mačka slovenske rock scene – kitarist Zlatko Kuret in bobnar Milan Murko sta tvorila ustvarjalno jedro zasedbe Sleazy Snails\, ki je v času svojega delovanja obredla domala vse domače odre\, vključno z Novim rockom v Križankah leta 1993 \, in požela tudi obilico odličnih kritik v medijih. \nZlatko in Milan sta pod imenom Vibesonic Jam združila moči z Bernardom Pintarjem\, plod skupnega dela pa je samosvoja mešanica različnih stilov glasbe. \nVibesonic Jam definitivno niso zgolj običajna rock zasedba\, saj je njihov glasbeni izraz preprosto preveč širok in se izogiba žanrovski klasifikaciji. Zasedba se je popolnoma odvrnila od glasbenih trendov in neobremenjeno sledi svoji viziji glasbe brez meja. Tako se lahko na enem mestu zlijejo v skladbi tako različne glasbene smeri kot so hard rock\, psihedelija\, country\, alternativa\, etc. Rezultat je samosvoj glasbeni stil\, ki gradi svojo izraznost na atmosferi\, kontroliranem hrupu\, melodiki\, ritmičnemu prepletu inštrumentov in trenutnem navdihu članov zasedbe. Na koncertih zasedba pokaže svojo neposredno zvočno silovitost in polnost zvoka\, ki ga nadgrajujejo improvizacije vseh treh članov. \nZasedba:\nMilan Murko – bobni\, ritem mašina\nZlatko Kuret – kitara\, loopi\nBernard Pintar – bas\, synth \nDiskografija:\nEgotrip – 2009\nSurfing to the moon – 2015 \nPovezavi:\nhttp://vibesonicjam.wix.com/vibesonicjam\nhttps://soundcloud.com/vibesonic-jam-band
URL:https://cmakcerkno.net/event/cmakoncert-maniacs-in-vibesonic-jam/
LOCATION:C.M.A.K. Cerkno\, Bevkova ulica 22\, Cerkno\, 5282\, Slovenija
CATEGORIES:CMAKoncert
ATTACH;FMTTYPE=image/jpeg:https://cmakcerkno.net/wp-content/uploads/2016/01/19lit.jpg
END:VEVENT
END:VCALENDAR