BEGIN:VCALENDAR
VERSION:2.0
PRODID:-//C.M.A.K. Cerkno - ECPv5.10.0//NONSGML v1.0//EN
CALSCALE:GREGORIAN
METHOD:PUBLISH
X-WR-CALNAME:C.M.A.K. Cerkno
X-ORIGINAL-URL:https://cmakcerkno.net
X-WR-CALDESC:Events for C.M.A.K. Cerkno
BEGIN:VTIMEZONE
TZID:Europe/Ljubljana
BEGIN:DAYLIGHT
TZOFFSETFROM:+0100
TZOFFSETTO:+0200
TZNAME:CEST
DTSTART:20240331T010000
END:DAYLIGHT
BEGIN:STANDARD
TZOFFSETFROM:+0200
TZOFFSETTO:+0100
TZNAME:CET
DTSTART:20241027T010000
END:STANDARD
END:VTIMEZONE
BEGIN:VEVENT
DTSTART;TZID=Europe/Ljubljana:20241221T190000
DTEND;TZID=Europe/Ljubljana:20241221T190000
DTSTAMP:20260421T041044
CREATED:20241206T201435Z
LAST-MODIFIED:20241206T201543Z
UID:5611-1734807600-1734807600@cmakcerkno.net
SUMMARY:CMAKoncert: Janez Škof in Tminski Madrigalisti + JAM session // Cmakov štant 2024
DESCRIPTION:Glasbeni vrhunec letošnjega štanta! \n\n\n\nJANEZ ŠKOF  \n\n\n\n\n\n\n\nje eden najboljših slovenskih igralcev\, ki ga skoraj vsi poznamo. Obenem pa se rad ukvarja tudi z igranjem diatonične harmonike in petjem\, je tudi glas in harmonika legendarne zasedbe ČOMPE. \n\n\n\nNa diatonični harmoniki je samouk\, zato je njegovo igranje tako zanimivo\, saj igra s srcem in v igranje res vlaga svojo dušo. Njegova glasba se spretno izogiba že znanim glasbenim potem in se podaja na svojo pot pripovedno-izpovedne glasbe. \n\n\n\nTMINSKI MADRIGALISTI \n\n\n\n\n\n\n\nso fantje iz Tolmina\, pojejo v tminščini in v svojih pesmih podajajo tiste večne vrednote\, kot so ljubezen\, poštenost\, skromnost\, prijateljstvo\, iskrenost. \n\n\n\nRepertoar skupine bazira na nekaterih ljudskih\, čeprav so najbolj ljudski ravno zaradi svoje neposrednosti in besednih izmislic in rešitev. Gre za eno redkih fantovskih (pretežno) vokalnih skupin\, ki se požvižgajo na tisto posvečeno obliko tradicije in tradicijo raje živijo – Pa Tminu se patiepaje (kot pravi ljudska pesem) in\, kadar je trenutek pravi\, neobremenjeno zapojejo. \n\n\n\nPo koncertu pa bo sledil Jam session v prostorih Pr’ Gabrijelu. Večer\, ki ga torej ni za zamuditi 🙂 \n\n\n\nPriporočen prispevek: 5€
URL:https://cmakcerkno.net/event/cmakoncert-janez-skof-in-tminski-madrigalisti-jam-session-cmakov-stant-2024/
LOCATION:Star plac (Trg pri fontani)\, Cerkno\, Močnikova ulica 8\, Cerkno\, 5282\, Slovenija
CATEGORIES:CMAKoncert,Improvizacija
END:VEVENT
END:VCALENDAR