BEGIN:VCALENDAR
VERSION:2.0
PRODID:-//C.M.A.K. Cerkno - ECPv5.10.0//NONSGML v1.0//EN
CALSCALE:GREGORIAN
METHOD:PUBLISH
X-WR-CALNAME:C.M.A.K. Cerkno
X-ORIGINAL-URL:https://cmakcerkno.net
X-WR-CALDESC:Events for C.M.A.K. Cerkno
BEGIN:VTIMEZONE
TZID:Europe/Ljubljana
BEGIN:DAYLIGHT
TZOFFSETFROM:+0100
TZOFFSETTO:+0200
TZNAME:CEST
DTSTART:20240331T010000
END:DAYLIGHT
BEGIN:STANDARD
TZOFFSETFROM:+0200
TZOFFSETTO:+0100
TZNAME:CET
DTSTART:20241027T010000
END:STANDARD
END:VTIMEZONE
BEGIN:VEVENT
DTSTART;TZID=Europe/Ljubljana:20240427T200000
DTEND;TZID=Europe/Ljubljana:20240427T200000
DTSTAMP:20260422T064831
CREATED:20240418T063726Z
LAST-MODIFIED:20240418T063726Z
UID:5504-1714248000-1714248000@cmakcerkno.net
SUMMARY:CMAKoncert in razstava: Sve boje jazza (HR\, SI) + vodstvo po razstavi "Koncept tretje roke"
DESCRIPTION:Projekt\, ki smo ga težko čakali! Filipa Valenčić in Maruša Štibelj\, ki imata trenutno pri nas izobešeno razstavo “Koncept tretje roke”\, sta tudi del audio-vizualnega Kolektiva Sve boje jazza\, oz. je ta razstava neposredno povezana s kolektivom\, saj je album kolektiva služil za podlago vizualnih kreacij.\n\n \n\n \n\nKer na samo otvoritev razstave bend ni mogel priti\, smo jih povabili na zaključek razstave. Ob koncertu bo tako hkrati tudi kratko vodstvo po predstavi ter predstavitev povezav med slikami in pesmimi.Sve boje jazza je sveži projekt prepletanja likovne in glasbene umetnosti. Osnovna ideja so ilustracije kot izhodišče za ustvarjanje posameznih skladb ali nasprotno.\n\n \n\nČlani: Lovro Mirth (vokal)\, Dorian Cuculić (klaviature)\, Boštjan Franetič (kitara)\, Jože Cesar (bobni)\, Filipa Valenčić (ilustracije).\n\n \n\nVstop tudi tokrat – prost\, prostovoljni prispevek – zaželjen.
URL:https://cmakcerkno.net/event/cmakoncert-in-razstava-sve-boje-jazza-hr-si-vodstvo-po-razstavi-koncept-tretje-roke/
LOCATION:Dvorišče pred VCC\, Bevkova ulica 22\, Cerkno\, 5282\, Slovenija
CATEGORIES:CMAKoncert,Razstava
END:VEVENT
END:VCALENDAR