BEGIN:VCALENDAR
VERSION:2.0
PRODID:-//C.M.A.K. Cerkno - ECPv5.10.0//NONSGML v1.0//EN
CALSCALE:GREGORIAN
METHOD:PUBLISH
X-WR-CALNAME:C.M.A.K. Cerkno
X-ORIGINAL-URL:https://cmakcerkno.net
X-WR-CALDESC:Events for C.M.A.K. Cerkno
BEGIN:VTIMEZONE
TZID:Europe/Ljubljana
BEGIN:DAYLIGHT
TZOFFSETFROM:+0100
TZOFFSETTO:+0200
TZNAME:CEST
DTSTART:20150329T010000
END:DAYLIGHT
BEGIN:STANDARD
TZOFFSETFROM:+0200
TZOFFSETTO:+0100
TZNAME:CET
DTSTART:20151025T010000
END:STANDARD
END:VTIMEZONE
BEGIN:VEVENT
DTSTART;TZID=Europe/Ljubljana:20150513T203000
DTEND;TZID=Europe/Ljubljana:20150513T220000
DTSTAMP:20260420T210659
CREATED:20150512T163702Z
LAST-MODIFIED:20150512T163702Z
UID:1200-1431549000-1431554400@cmakcerkno.net
SUMMARY:CMAKoncert: Flying Donuts (Fr)
DESCRIPTION:Flying Donuts so se formirali leta 1996 v Franciji in že istega leta pričeli s svojim koncertiranjem. Le kmalu pa se je njihovo ime pričelo pojavljati v fanzinih in na kompilacijah\, koncerte pa so si delili z Les Thugs\, Seven Hate\, Aina in Burning Heads\, s tem so pridobivali izkušnje ter samozavest ter svoj slog.\nPosneli so tudi že precej skupnih albumov z drugimi bandi. Svoj prvi »pravi« album Last Straight Line so objavili leta 2001 vmes pa so objavili kar nekaj minialbumov. Sledili so koncerti z bandi z emo-glam scene\, kot so Second Rate\, Dead Pop Club\, Homeboys ali SexyPop.\nAlbum Renewed Attack iz leta 2006 so posneli v Franciji in Londonu\, produciral pa ga je Harvey Birrell\, ki je sodeloval z mnogimi razvpitimi bandi\, kot so Theraphy?\, Senseless Things\, Mega City Four ter Buzzcocks.\nV 2009 je luč sveta ugledal njihov tretji album z naslovom Until the morning comes\, lansko leto pa so izdali album Still Active\, ki v 53 minutah povzema njihove osemnajsletne divje izkušnje na turnejah.\nZ več kot 500 odigranimi koncerti so se Flying Donuts zopet odpravili na evropsko turnejo\, v okviru katere promovirajo svojo najnovejšo izdajo. \nJeremie Dalstein – kitara / vokal\nEmmanuel Barbe – bas / vokal\nBenjamin Dalstein – bobni \nhttp://www.flyingdonuts.net/\nhttps://flyingdonuts.bandcamp.com/\nhttps://www.facebook.com/flyingdonutspunkrock
URL:https://cmakcerkno.net/event/cmakoncert-flying-donuts-fr/
LOCATION:C.M.A.K. Cerkno\, Bevkova ulica 22\, Cerkno\, 5282\, Slovenija
CATEGORIES:CMAKoncert
ATTACH;FMTTYPE=image/jpeg:https://cmakcerkno.net/wp-content/uploads/2015/05/Flying2009_650x300.jpg
END:VEVENT
END:VCALENDAR