BEGIN:VCALENDAR
VERSION:2.0
PRODID:-//C.M.A.K. Cerkno - ECPv5.10.0//NONSGML v1.0//EN
CALSCALE:GREGORIAN
METHOD:PUBLISH
X-WR-CALNAME:C.M.A.K. Cerkno
X-ORIGINAL-URL:https://cmakcerkno.net
X-WR-CALDESC:Events for C.M.A.K. Cerkno
BEGIN:VTIMEZONE
TZID:Europe/Ljubljana
BEGIN:DAYLIGHT
TZOFFSETFROM:+0100
TZOFFSETTO:+0200
TZNAME:CEST
DTSTART:20150329T010000
END:DAYLIGHT
BEGIN:STANDARD
TZOFFSETFROM:+0200
TZOFFSETTO:+0100
TZNAME:CET
DTSTART:20151025T010000
END:STANDARD
END:VTIMEZONE
BEGIN:VEVENT
DTSTART;TZID=Europe/Ljubljana:20151226T220000
DTEND;TZID=Europe/Ljubljana:20151226T235500
DTSTAMP:20260419T214323
CREATED:20151217T170903Z
LAST-MODIFIED:20151217T170903Z
UID:1692-1451167200-1451174100@cmakcerkno.net
SUMMARY:CMAKoncert: Drone Hunter + tba
DESCRIPTION:Na zadnjem CMAKoncert-u v tem letu bodo nastopili DRONE HUNTER.DRONE HUNTER je instrumentalni sludge/stoner/rock trio iz Varaždina\, ki od pomladi leta 2012 nažiga brezkompromisni rokenrol. Oktobra 2013 so izdali svoj prvi album\, sedaj pa pripravljajo tudi drugega. Koncertirali so po Hrvaški in tudi drugih državah Evrope. Zasedba:Rus – bobniKlen – basFitz – kitarahttps://www.facebook.com/DroneHunterhttps://dronehuntercro.bandcamp.com/
URL:https://cmakcerkno.net/event/cmakoncert-drone-hunter-tba/
LOCATION:C.M.A.K. Cerkno\, Bevkova ulica 22\, Cerkno\, 5282\, Slovenija
CATEGORIES:CMAKoncert
ATTACH;FMTTYPE=image/jpeg:https://cmakcerkno.net/wp-content/uploads/2015/12/drone-hunter.jpg
END:VEVENT
END:VCALENDAR