BEGIN:VCALENDAR
VERSION:2.0
PRODID:-//C.M.A.K. Cerkno - ECPv5.10.0//NONSGML v1.0//EN
CALSCALE:GREGORIAN
METHOD:PUBLISH
X-WR-CALNAME:C.M.A.K. Cerkno
X-ORIGINAL-URL:https://cmakcerkno.net
X-WR-CALDESC:Events for C.M.A.K. Cerkno
BEGIN:VTIMEZONE
TZID:Europe/Ljubljana
BEGIN:DAYLIGHT
TZOFFSETFROM:+0100
TZOFFSETTO:+0200
TZNAME:CEST
DTSTART:20170326T010000
END:DAYLIGHT
BEGIN:STANDARD
TZOFFSETFROM:+0200
TZOFFSETTO:+0100
TZNAME:CET
DTSTART:20171029T010000
END:STANDARD
END:VTIMEZONE
BEGIN:VEVENT
DTSTART;TZID=Europe/Ljubljana:20170224T220000
DTEND;TZID=Europe/Ljubljana:20170224T235900
DTSTAMP:20260420T165113
CREATED:20170223T110622Z
LAST-MODIFIED:20170223T110622Z
UID:2025-1487973600-1487980740@cmakcerkno.net
SUMMARY:CMAKoncert: Armaroth in Deep Down Bellow
DESCRIPTION:Na pustni petek bomo s koncertom dveh metal zasedb obeležili že dve desetletji delovanja C.M.A.K.-a! Za veter v laseh bodo prskrbeli Armaroth iz Kranja in Deep Down Bellow iz Kobarida.ArmarothArmaroth je petglava entiteta\, ki prebiva nekje v obskurnem podzemlju Kranja. Čeprav Armaroth najraje ustvarja v svojem betonskem brlogu\, pa svoj pravi obraz pokaže šele\, ko zavzame oder. S svojo naravno karizmo in odrsko prezenco\, bend zastruplja in zapeljuje občinstvo. Band je oborožen z izredno glasno in precizno ritem sekcijo\, mastnimi in sprevženimi kitarskimi riffi ter psihadeličnimi vložki\, na čelu pa rohni peklenski vokal\, ki se mu uklanjajo strahovi sami.http://armaroth.com/https://armaroth.bandcamp.com/https://www.youtube.com/channel/UCLHvBXlpGS8i4GdsX3-NOWQ \nDeep Down Bellow\nNad okljuki bregov reke Soče in pod Matajurjem svojevrsten sludge / groove / death metal kujejo Deep Down Bellow. V svojih pesmih rjovejo o vsakdanjem življenju človeka kot sta suženjstvo in smrt\, dotaknejo pa se tudi nevidnega\, posmrtnega življenja. V bližnji prihodnosti bodo izdali prvenec z naslovom Everything is Darker Than it Seems\, za katerega so že posneli sedem avtorskih pesmi. \nhttps://www.youtube.com/watch?v=9HuOMjrYC-E&feature=share\nhttps://www.youtube.com/watch?v=krreTzWy-0U&t=76s
URL:https://cmakcerkno.net/event/cmakoncert-armaroth-in-deep-down-bellow/
CATEGORIES:CMAKoncert
ATTACH;FMTTYPE=image/jpeg:https://cmakcerkno.net/wp-content/uploads/2017/02/Armaroth_DDB.jpg
END:VEVENT
END:VCALENDAR