BEGIN:VCALENDAR
VERSION:2.0
PRODID:-//C.M.A.K. Cerkno - ECPv5.10.0//NONSGML v1.0//EN
CALSCALE:GREGORIAN
METHOD:PUBLISH
X-WR-CALNAME:C.M.A.K. Cerkno
X-ORIGINAL-URL:https://cmakcerkno.net
X-WR-CALDESC:Events for C.M.A.K. Cerkno
BEGIN:VTIMEZONE
TZID:Europe/Ljubljana
BEGIN:DAYLIGHT
TZOFFSETFROM:+0100
TZOFFSETTO:+0200
TZNAME:CEST
DTSTART:20170326T010000
END:DAYLIGHT
BEGIN:STANDARD
TZOFFSETFROM:+0200
TZOFFSETTO:+0100
TZNAME:CET
DTSTART:20171029T010000
END:STANDARD
END:VTIMEZONE
BEGIN:VEVENT
DTSTART;TZID=Europe/Ljubljana:20170503T200000
DTEND;TZID=Europe/Ljubljana:20170503T200000
DTSTAMP:20260419T142031
CREATED:20170424T191823Z
LAST-MODIFIED:20170424T200341Z
UID:2272-1493841600-1493841600@cmakcerkno.net
SUMMARY:CMAKoncert: Anne M. Christiansen / PACINO
DESCRIPTION:V MC C.M.A.K. Cerkno prihajata dva Češka benda – Anne M. Christiansen ter PACINO! \n  \n Anne M. Christiansen (cz) \n Bend\, ki vpije in nažiga od leta 2014. Preigravajo 90’s emo hardcore punk\, in čeprav prihajajo iz Češke\, se v njihovi glasbi čuti močan vpliv francoskih emo bendov kot so Anomie\, Amanda Woodward\, Belle Epoque.https://www.facebook.com/annemchristiansenband/https://annemchristiansen.bandcamp.com/releases \n  \nPACINO (cz)  \nIndie post-rock band\, ki skozi svojo zasanjano glasbo ter kaotično poezijo izraža željo po lepšem svetu za vse. \nhttps://pacino.bandcamp.com/album/split-mc-w-sky-to-speakhttp://cheechaakfest.com/pacino/Vabljeni-e!
URL:https://cmakcerkno.net/event/cmakoncert-anne-m-christiansen-pacino/
LOCATION:C.M.A.K. Cerkno\, Bevkova ulica 22\, Cerkno\, 5282\, Slovenija
CATEGORIES:CMAKoncert
END:VEVENT
END:VCALENDAR