BEGIN:VCALENDAR
VERSION:2.0
PRODID:-//C.M.A.K. Cerkno - ECPv5.10.0//NONSGML v1.0//EN
CALSCALE:GREGORIAN
METHOD:PUBLISH
X-WR-CALNAME:C.M.A.K. Cerkno
X-ORIGINAL-URL:https://cmakcerkno.net
X-WR-CALDESC:Events for C.M.A.K. Cerkno
BEGIN:VTIMEZONE
TZID:Europe/Ljubljana
BEGIN:DAYLIGHT
TZOFFSETFROM:+0100
TZOFFSETTO:+0200
TZNAME:CEST
DTSTART:20140330T010000
END:DAYLIGHT
BEGIN:STANDARD
TZOFFSETFROM:+0200
TZOFFSETTO:+0100
TZNAME:CET
DTSTART:20141026T010000
END:STANDARD
END:VTIMEZONE
BEGIN:VEVENT
DTSTART;TZID=Europe/Ljubljana:20141212T220000
DTEND;TZID=Europe/Ljubljana:20141212T235500
DTSTAMP:20260420T182455
CREATED:20141103T213332Z
LAST-MODIFIED:20141125T140842Z
UID:698-1418421600-1418428500@cmakcerkno.net
SUMMARY:CMAKoncert: Jani Kovačič in Ana Pupedan - Besne pesmi
DESCRIPTION:Besne pesmi v skupni izvedbi Janija Kovačiča in Ane Pupedan.\nBesne pesmi izpod peresa Janija Kovačiča so bile napisane prav za lanskoletne proteste. V živo jih izvaja ob spremljavi Ane\nPupedan\, zasedba pa si je nadela ime Janaj Kopupevadančič. V zadnjem letu so po Sloveniji nastopili že desetkrat.\nDa to je naša prabitnost.\nŠe vedno se borimo za staro pravdo\, za desetino\, za pravično državo…\nZato tokrat program spevnih pesmi prigodnic za vsakdanjo rabo za te neperspektivne čase.\nPridite\, bolje vam bo!\nKo upojemo težave\, se jih dokončno zavemo.\nSamo še rešiti jih moramo – pa bo.\nPesmi za štrajke\, vstaje in proteste!\nZaigrajte si jih\, morda vam bo lažje! \nhttp://radiostudent.si/glasba/afterparty/jani-kova%C4%8Di%C4%8D-in-ana-pupedan\nhttp://www.anapupedan.com/\nhttp://sl-si.facebook.com/pages/Jani-Kova%C4%8Di%C4%8D/129853250424278\nhttp://sl-si.facebook.com/pages/Ana-Pupedan/161629350566492
URL:https://cmakcerkno.net/event/cmakoncert-ana-pupedan-in-jani-kovacic/
LOCATION:C.M.A.K. Cerkno\, Bevkova ulica 22\, Cerkno\, 5282\, Slovenija
CATEGORIES:CMAKoncert
ATTACH;FMTTYPE=image/jpeg:https://cmakcerkno.net/wp-content/uploads/2014/11/ana-jani.web2_.jpg
END:VEVENT
END:VCALENDAR