BEGIN:VCALENDAR
VERSION:2.0
PRODID:-//C.M.A.K. Cerkno - ECPv5.10.0//NONSGML v1.0//EN
CALSCALE:GREGORIAN
METHOD:PUBLISH
X-WR-CALNAME:C.M.A.K. Cerkno
X-ORIGINAL-URL:https://cmakcerkno.net
X-WR-CALDESC:Events for C.M.A.K. Cerkno
BEGIN:VTIMEZONE
TZID:Europe/Ljubljana
BEGIN:DAYLIGHT
TZOFFSETFROM:+0100
TZOFFSETTO:+0200
TZNAME:CEST
DTSTART:20180325T010000
END:DAYLIGHT
BEGIN:STANDARD
TZOFFSETFROM:+0200
TZOFFSETTO:+0100
TZNAME:CET
DTSTART:20181028T010000
END:STANDARD
END:VTIMEZONE
BEGIN:VEVENT
DTSTART;TZID=Europe/Ljubljana:20180215T200000
DTEND;TZID=Europe/Ljubljana:20180215T220000
DTSTAMP:20260420T162501
CREATED:20180209T110019Z
LAST-MODIFIED:20180209T110019Z
UID:2756-1518724800-1518732000@cmakcerkno.net
SUMMARY:cmaKino: The Antifascists
DESCRIPTION:Na ulicah Evrope se bije intenziven boj proti fašizmu. Dokumentarni film nas popelje za maske militantnih skupin\, imenovanih antifašisti.\nV letu 2013 skupina oboroženih neo-nacistov napade mirno demonstracijo v Stockholmu\, pri čemer je nekaj ljudi ranjenih. V Grčiji na volitvah neo-nacistična Zlata zora postane tretja največja politična stranka\, medtem ko so v švedskem mestu Malmö aktivist Showan Shattak in njegovi prijatelji napadeni s strani z noži oboroženih nacistov in Shattak posledično pristane v komi.\nV tem portretu antfašistov v Grčiji in na Švedskem spoznamo ključne osebnosti\, ki nam razložijo lastne poglede na njihove radikalne politike ter tudi samokritiko na račun uporabljenega nasilja in militantnosti. \nJezik: grški\, švedski\nPodnapisi: angleški \nVstop prost
URL:https://cmakcerkno.net/event/cmakino-the-antifascists/
CATEGORIES:Film
ATTACH;FMTTYPE=image/jpeg:https://cmakcerkno.net/wp-content/uploads/2018/02/maxresdefault.jpg
END:VEVENT
END:VCALENDAR