BEGIN:VCALENDAR
VERSION:2.0
PRODID:-//C.M.A.K. Cerkno - ECPv5.10.0//NONSGML v1.0//EN
CALSCALE:GREGORIAN
METHOD:PUBLISH
X-WR-CALNAME:C.M.A.K. Cerkno
X-ORIGINAL-URL:https://cmakcerkno.net
X-WR-CALDESC:Events for C.M.A.K. Cerkno
BEGIN:VTIMEZONE
TZID:Europe/Ljubljana
BEGIN:DAYLIGHT
TZOFFSETFROM:+0100
TZOFFSETTO:+0200
TZNAME:CEST
DTSTART:20200329T010000
END:DAYLIGHT
BEGIN:STANDARD
TZOFFSETFROM:+0200
TZOFFSETTO:+0100
TZNAME:CET
DTSTART:20201025T010000
END:STANDARD
END:VTIMEZONE
BEGIN:VEVENT
DTSTART;TZID=Europe/Ljubljana:20200207T190000
DTEND;TZID=Europe/Ljubljana:20200207T200000
DTSTAMP:20260421T074422
CREATED:20200113T083457Z
LAST-MODIFIED:20200113T083740Z
UID:3812-1581102000-1581105600@cmakcerkno.net
SUMMARY:CMAKino: Skiing the Fire Ring
DESCRIPTION:SKIING THE FIRE RING je zgodba o štirih prijateljih\, ki se podajo na pot daleč v osrčje Islandije\, z namenom smučati po še nedotaknjenih pobočjih vulkanov Herdubreida in Askje. Vodja odprave je legendarni alpski smučar Ivica Kostelić\, ki je velik ljubitelj in zagovornik tako imenovanih »zelenih odprav«. Fantje se skupaj z vso potrebno opremo za preživetje\, v tej surovi naravi\, peš odpravijo na več kot 200 kilometrsko pot\, na kateri mora biti vsak korak vnaprej skrbno načrtovan.
URL:https://cmakcerkno.net/event/cmakino-skiing-the-fire-ring/
LOCATION:Glasbena šola Cerkno\, Bevkova ulica 12\, Cerkno\, 5282\, Slovenia
CATEGORIES:Film
ATTACH;FMTTYPE=image/jpeg:https://cmakcerkno.net/wp-content/uploads/2020/01/P1410560.jpg
END:VEVENT
END:VCALENDAR