BEGIN:VCALENDAR
VERSION:2.0
PRODID:-//C.M.A.K. Cerkno - ECPv5.10.0//NONSGML v1.0//EN
CALSCALE:GREGORIAN
METHOD:PUBLISH
X-WR-CALNAME:C.M.A.K. Cerkno
X-ORIGINAL-URL:https://cmakcerkno.net
X-WR-CALDESC:Events for C.M.A.K. Cerkno
BEGIN:VTIMEZONE
TZID:Europe/Ljubljana
BEGIN:DAYLIGHT
TZOFFSETFROM:+0100
TZOFFSETTO:+0200
TZNAME:CEST
DTSTART:20170326T010000
END:DAYLIGHT
BEGIN:STANDARD
TZOFFSETFROM:+0200
TZOFFSETTO:+0100
TZNAME:CET
DTSTART:20171029T010000
END:STANDARD
END:VTIMEZONE
BEGIN:VEVENT
DTSTART;TZID=Europe/Ljubljana:20170502T200000
DTEND;TZID=Europe/Ljubljana:20170502T200000
DTSTAMP:20260419T160400
CREATED:20170424T185204Z
LAST-MODIFIED:20170424T185830Z
UID:2253-1493755200-1493755200@cmakcerkno.net
SUMMARY:CMAKino: Širom - Pokrajine iz spominov / Memoryscapes
DESCRIPTION:  \nČlani tria Širom\, Ana Kravanja\, Samo Kutin in Iztok Koren\, so se lansko pomlad odpravili v naravo rodnih krajev. Pot jih je vodila v kraško vrtačo Bukovnik\, pod zasneženi Tolminski Migovec in na cvetoča polja Prekmurja z namenom opazovati vpliv okolja in spominov na njihovo glasbeno improviziranje.Širom: Ana Kravanja\, Samo Kutin\, Iztok Korenposneto v zgodnji pomladi 2016 – Nova Gorica\, Lesno Brdo\, Kras\, planina Kal\, Prekmurjekamera: Noemie De Pas\, Tit Brecelj\, Žiga Stanovnik\, Matija Jarcmontaža: Noemie De Pas\, Tit Breceljsnemanje zvoka: Širomoblikovanje zvoka: Aldo Ivančičprevod: Gregor ZamudaDolžina filma: 35 minut
URL:https://cmakcerkno.net/event/cmakino-sirom-pokrajine-iz-spominov-memoryscapes/
LOCATION:C.M.A.K. Cerkno\, Bevkova ulica 22\, Cerkno\, 5282\, Slovenija
CATEGORIES:Film
END:VEVENT
END:VCALENDAR