BEGIN:VCALENDAR
VERSION:2.0
PRODID:-//C.M.A.K. Cerkno - ECPv5.10.0//NONSGML v1.0//EN
CALSCALE:GREGORIAN
METHOD:PUBLISH
X-WR-CALNAME:C.M.A.K. Cerkno
X-ORIGINAL-URL:https://cmakcerkno.net
X-WR-CALDESC:Events for C.M.A.K. Cerkno
BEGIN:VTIMEZONE
TZID:Europe/Ljubljana
BEGIN:DAYLIGHT
TZOFFSETFROM:+0100
TZOFFSETTO:+0200
TZNAME:CEST
DTSTART:20190331T010000
END:DAYLIGHT
BEGIN:STANDARD
TZOFFSETFROM:+0200
TZOFFSETTO:+0100
TZNAME:CET
DTSTART:20191027T010000
END:STANDARD
END:VTIMEZONE
BEGIN:VEVENT
DTSTART;TZID=Europe/Ljubljana:20191230T190000
DTEND;TZID=Europe/Ljubljana:20191230T193000
DTSTAMP:20260421T092810
CREATED:20191229T105010Z
LAST-MODIFIED:20191229T105010Z
UID:3809-1577732400-1577734200@cmakcerkno.net
SUMMARY:CMAKino: Mlado Cerkno
DESCRIPTION:Mlado Cerkno je sklop krajših videointervjujev z mladimi ustvarjalkami in ustvarjalci iz Cerknega\, delujočimi na področju kulture. Je vpogled tako v njihovo ustvarjalnost kot tudi njihove potrebe in želje na tem področju. \nVidei bodo v januarju na voljo na svetovnem spletu\, še prej pa si jih seveda lahko premierno ogledate v naših prostorih na Močnikovi ulici 3.
URL:https://cmakcerkno.net/event/cmakino-mlado-cerkno/
LOCATION:MC C.M.A.K.\, Močnikova ulica 3\, Cerkno\, 5282\, Slovenija
CATEGORIES:Film
ATTACH;FMTTYPE=image/jpeg:https://cmakcerkno.net/wp-content/uploads/2019/12/Untitled-1.jpg
END:VEVENT
END:VCALENDAR