BEGIN:VCALENDAR
VERSION:2.0
PRODID:-//C.M.A.K. Cerkno - ECPv5.10.0//NONSGML v1.0//EN
CALSCALE:GREGORIAN
METHOD:PUBLISH
X-WR-CALNAME:C.M.A.K. Cerkno
X-ORIGINAL-URL:https://cmakcerkno.net
X-WR-CALDESC:Events for C.M.A.K. Cerkno
BEGIN:VTIMEZONE
TZID:Europe/Ljubljana
BEGIN:DAYLIGHT
TZOFFSETFROM:+0100
TZOFFSETTO:+0200
TZNAME:CEST
DTSTART:20150329T010000
END:DAYLIGHT
BEGIN:STANDARD
TZOFFSETFROM:+0200
TZOFFSETTO:+0100
TZNAME:CET
DTSTART:20151025T010000
END:STANDARD
END:VTIMEZONE
BEGIN:VEVENT
DTSTART;TZID=Europe/Ljubljana:20150127T200000
DTEND;TZID=Europe/Ljubljana:20150127T213000
DTSTAMP:20260421T124857
CREATED:20150123T171140Z
LAST-MODIFIED:20150123T171351Z
UID:930-1422388800-1422394200@cmakcerkno.net
SUMMARY:cmaKino: Lucio
DESCRIPTION:Na svetu je veliko anarhistov. Mnogi od njih so za dosego svojih ciljev ropali ali se ukvarjali s tihotapstvom. Manj je takih\, ki so s Che Guevaro razpravljali o strategijah ali pomagali Eldridgeu Cleaverju\, voditelju Črnih panterjev. Edini\, ki je počel vse to in ki mu je obenem z množičnim ponarejanjem potovalnih čekov uspelo potisniti v kot najmogočnejšo banko na svetu\, ne da bi pri tem bil odsoten en sam dan s svojega delovnega mesta poklicnega zidarja. To je Lucio Urtubia\, doma iz majhne vasi v Navarri. Dandanes Lucio živi kot upokojenec v Parizu\, še vedno aktiven kot anarhist. Mediji so ga označili kot »dobrega bandita« ali »baskovskega Zorra«. Med drugim mu je namreč uspelo prevarati First National Bank (sedanjo Citibank) in 3.000 milijonov takratnih pezet preusmeriti v namere\, v katere je verjel. Skoraj neverjetno pri tem pa je\, da so ga njegove aktivnosti stale nič več kot nekaj mesecev zapora.
URL:https://cmakcerkno.net/event/cmakino-lucio/
LOCATION:C.M.A.K. Cerkno\, Bevkova ulica 22\, Cerkno\, 5282\, Slovenija
CATEGORIES:Film
ATTACH;FMTTYPE=image/jpeg:https://cmakcerkno.net/wp-content/uploads/2015/01/lucio.jpg
END:VEVENT
END:VCALENDAR