BEGIN:VCALENDAR
VERSION:2.0
PRODID:-//C.M.A.K. Cerkno - ECPv5.10.0//NONSGML v1.0//EN
CALSCALE:GREGORIAN
METHOD:PUBLISH
X-WR-CALNAME:C.M.A.K. Cerkno
X-ORIGINAL-URL:https://cmakcerkno.net
X-WR-CALDESC:Events for C.M.A.K. Cerkno
BEGIN:VTIMEZONE
TZID:Europe/Ljubljana
BEGIN:DAYLIGHT
TZOFFSETFROM:+0100
TZOFFSETTO:+0200
TZNAME:CEST
DTSTART:20190331T010000
END:DAYLIGHT
BEGIN:STANDARD
TZOFFSETFROM:+0200
TZOFFSETTO:+0100
TZNAME:CET
DTSTART:20191027T010000
END:STANDARD
END:VTIMEZONE
BEGIN:VEVENT
DTSTART;TZID=Europe/Ljubljana:20191207T180000
DTEND;TZID=Europe/Ljubljana:20191207T190000
DTSTAMP:20260419T180036
CREATED:20191117T141712Z
LAST-MODIFIED:20191201T201733Z
UID:3746-1575741600-1575745200@cmakcerkno.net
SUMMARY:CMAKino / Kdo se boji ideologije?
DESCRIPTION:Režija Marwa Arsanios\, Libanon/ZDA\, 2019\, 51′\, v angleščini z angleškimi podnapisi  \nSeptembra 2018 je umetnica Marwa Arsanios obiskala Demokratično federacijo severne Sirije\, kjer je takrat divjala vojna. Obiskala je avtonomne zadruge in komune Kurdinj na osvobojenem ozemlju v Rožavi vključno s samoorganizirano ekofeministično vasjo Jinwar\, ki je vse do turške invazije oktobra 2019 ženskam nudila zatočišče pred nasiljem ter prostor za eksperimentiranje z alternativno ekonomijo in oblikovanjem drugačnega sveta. Avtorica v umetniško-dokumentarnem videu Kdo se boji ideologije? (II. del) raziskuje\, kako so članice avtonomnega ženskega gibanja v Rožavi pred invazijo skrbele zase in za okolje (zemljo\, rastline in živali)\, pri tem pa se izogne nevarnosti\, da bi njihovo skrbnost interpretirala kot “naravno poslanstvo žensk”.  \nOgledu videa sledi pogovor s Petro Meterc in Anjo Zalta o ženskem gibanju in trenutnih razmerah v sirskem Kurdistanu. \nMARWA ARSANIOS je umetnica\, filmska ustvarjalka in raziskovalka\, ki politike s sredine dvajsetega stoletja premišljuje s sodobne perspektive\, poseben poudarek pa namenja odnosom med spoli\, urbanizmu in industrializaciji. K raziskovanju pristopa sodelovalno in stremi k delu\, ki zajema različne discipline.  \nPETRA METERC je zaključila študij anglistike in polonistike na Univerzi v Ljubljani. Je nekdanja urednica literarne oddaje Tu pa tam na Radiu Študent\, ki sloni na delu mladih\, še neuveljavljenih prevajalcev ter slovenskim bralcem predstavlja še nepoznane sodobne avtorje. Prevaja iz poljščine in angleščine ter piše literarne in filmske kritike.  \nANJA ZALTA je docentka za sociologijo religije na Oddelku za sociologijo Filozofske fakultete v Ljubljani\, kjer predava predmete s področja sociologije religije. Njeno raziskovalno delo se osredotoča na vprašanje islama v Evropi\, pravic religijskih manjšin\, spola in religije ter možnosti transformacij verskih konfliktov.  \nOrganizira MC C.M.A.K. Cerkno v sodelovanju z društvom Mesto žensk\, koproducentom videa.
URL:https://cmakcerkno.net/event/cmakino-kdo-se-boji-ideologije-ii-del/
LOCATION:MC C.M.A.K.\, Močnikova ulica 3\, Cerkno\, 5282\, Slovenija
CATEGORIES:Film
ATTACH;FMTTYPE=image/jpeg:https://cmakcerkno.net/wp-content/uploads/2019/11/CMAKino-Marwa-Arsanios.jpg
END:VEVENT
END:VCALENDAR