BEGIN:VCALENDAR
VERSION:2.0
PRODID:-//C.M.A.K. Cerkno - ECPv5.10.0//NONSGML v1.0//EN
CALSCALE:GREGORIAN
METHOD:PUBLISH
X-WR-CALNAME:C.M.A.K. Cerkno
X-ORIGINAL-URL:https://cmakcerkno.net
X-WR-CALDESC:Events for C.M.A.K. Cerkno
BEGIN:VTIMEZONE
TZID:Europe/Ljubljana
BEGIN:DAYLIGHT
TZOFFSETFROM:+0100
TZOFFSETTO:+0200
TZNAME:CEST
DTSTART:20170326T010000
END:DAYLIGHT
BEGIN:STANDARD
TZOFFSETFROM:+0200
TZOFFSETTO:+0100
TZNAME:CET
DTSTART:20171029T010000
END:STANDARD
END:VTIMEZONE
BEGIN:VEVENT
DTSTART;TZID=Europe/Ljubljana:20170525T200000
DTEND;TZID=Europe/Ljubljana:20170525T200000
DTSTAMP:20260420T094740
CREATED:20170523T095804Z
LAST-MODIFIED:20170523T100402Z
UID:2337-1495742400-1495742400@cmakcerkno.net
SUMMARY:CMAKino: Istanbul United
DESCRIPTION:Istanbul United je film\, ki sledi nogometnim navijačem in njihovemu sodelovanju v vstajah v parku Gezi leta 2013. Odnosi rivalskih navijačev treh večjih istanbulskih klubov\, Galatasaray\, Fenerbahce in Besiktasare\, so tradicionalno napeti in priložnostno nasilni. Film raziskuje zakaj so bili nogometni navijači tako zelo vpeti na protestih ter kako in zakaj je bilo to rivalstvo med njimi preseženo v času teh protestov. \n/ \nIstanbul United follows football fans and their participation in the Gezi Park Uprising in 2013. The fan rivalries between Istanbul’s three main clubs\, Galatasaray\, Fenerbahce and Besiktasare\, are traditionally intense\, and at times violent. The film looks at why football fans would be so present at protests\, and how and why this rivalry was overcome at the time of the protests. \n  \nOgled filma je brezplačen.
URL:https://cmakcerkno.net/event/cmakino-istanbul-united/
LOCATION:C.M.A.K. Cerkno\, Bevkova ulica 22\, Cerkno\, 5282\, Slovenija
CATEGORIES:Film
END:VEVENT
END:VCALENDAR