BEGIN:VCALENDAR
VERSION:2.0
PRODID:-//C.M.A.K. Cerkno - ECPv5.10.0//NONSGML v1.0//EN
CALSCALE:GREGORIAN
METHOD:PUBLISH
X-WR-CALNAME:C.M.A.K. Cerkno
X-ORIGINAL-URL:https://cmakcerkno.net
X-WR-CALDESC:Events for C.M.A.K. Cerkno
BEGIN:VTIMEZONE
TZID:Europe/Ljubljana
BEGIN:DAYLIGHT
TZOFFSETFROM:+0100
TZOFFSETTO:+0200
TZNAME:CEST
DTSTART:20220327T010000
END:DAYLIGHT
BEGIN:STANDARD
TZOFFSETFROM:+0200
TZOFFSETTO:+0100
TZNAME:CET
DTSTART:20221030T010000
END:STANDARD
END:VTIMEZONE
BEGIN:VEVENT
DTSTART;TZID=Europe/Ljubljana:20221112T190000
DTEND;TZID=Europe/Ljubljana:20221112T190000
DTSTAMP:20260422T122001
CREATED:20221103T210244Z
LAST-MODIFIED:20221103T210633Z
UID:4943-1668279600-1668279600@cmakcerkno.net
SUMMARY:CmaKino: Inventura
DESCRIPTION:Igrani prvenec Darka Sinka je tragikomedija o človeku\, ki ugotovi\, da so bile njegove predstave o lastnem življenju le iluzija. Film je dobitnik štirih vesen na Festivalu slovenskega filma v Portorožu. \nBoris Robič je\, kot rečemo\, običajen človek. A nekega dne po večerji\, ko bere v svoji sobi\, nekdo skozi okno strelja nanj. Pride policija\, začne se preiskava pod vodstvom kriminalista Andreja. Izkaže se\, da Boris nima nobenih sovražnikov in ni v sporu z nikomer. Ni nobenih osumljencev – Boris zdi se popolnoma nezanimiv človek za odstrel. Zdi se\, da je šlo za nekakšno naključje\, zato policija čez čas preiskavo ustavi. A Boris se s tem ne more sprijazniti\, dvom ga črviči in začne raziskovati sam. Pri iskanju potencialnih storilcev pa se pred nami odvije tragikomedija človeka\, ki odkrije\, da ga sovraži več ljudi\, kot si je lahko predstavljal in da so njegove predstave o lastnem življenju le iluzija. \n \nO režiserju\nDarko Sinko\, rojen leta 1979 v Slovenj Gradcu\, je diplomiral na ljubljanski Fakulteti za družbene vede in na AGRFT\, smer filmska režija. Zrežiral je več kratkih in dokumentarnih filmov\, med njimi Hiške (2014\, v sorežiji z Matjažem Ivanišinom) in Sošolki (2014)\, nagrajeni z vesno za najboljši scenarij na Festivalu slovenskega filma v Portorožu. Inventura je Sinkov prvi igrani celovečerec. \nIgrajo\nDavor Janjić\, Dejan Spasić\, Janez Škof\, Mirel Knez\, Mojca Partljič\, Radoš Bolčina\, Renato Jenček\, Saša Tabaković\, Veronika Drolc\, Žan Koprivnik \n \n 
URL:https://cmakcerkno.net/event/cmakino-inventura/
LOCATION:MC CMAK Cerkno\, Predavalnica VCC\, Bevkova 22
CATEGORIES:Film
END:VEVENT
END:VCALENDAR