BEGIN:VCALENDAR
VERSION:2.0
PRODID:-//C.M.A.K. Cerkno - ECPv5.10.0//NONSGML v1.0//EN
CALSCALE:GREGORIAN
METHOD:PUBLISH
X-WR-CALNAME:C.M.A.K. Cerkno
X-ORIGINAL-URL:https://cmakcerkno.net
X-WR-CALDESC:Events for C.M.A.K. Cerkno
BEGIN:VTIMEZONE
TZID:Europe/Ljubljana
BEGIN:DAYLIGHT
TZOFFSETFROM:+0100
TZOFFSETTO:+0200
TZNAME:CEST
DTSTART:20250330T010000
END:DAYLIGHT
BEGIN:STANDARD
TZOFFSETFROM:+0200
TZOFFSETTO:+0100
TZNAME:CET
DTSTART:20251026T010000
END:STANDARD
END:VTIMEZONE
BEGIN:VEVENT
DTSTART;TZID=Europe/Ljubljana:20250412T180000
DTEND;TZID=Europe/Ljubljana:20250412T180000
DTSTAMP:20260421T030915
CREATED:20250407T221934Z
LAST-MODIFIED:20250407T222942Z
UID:5698-1744480800-1744480800@cmakcerkno.net
SUMMARY:CmaKino: Gram srca in pogovor z režiserjem + Večer družabnih iger
DESCRIPTION:Vabljeni na Bevkovo 22 na ogled dokumentarnega filma GRAM SRCA in pogovr z režiserjem Janom Cvitkovičem\, ki bo potekal v Večnamenskem Centru. \n\n\n\n\n\n\n\nFilm Jana Cvitkoviča govori o zgodbah in izpovedih odvisnikov o drogah: Ustvarjalci dokumentarnega filma »Gram srca« smo vstopili v svet odvisnosti in na ulicah Ljubljane spremljali odvisnike\, ki so v intervjujih izpovedali lastno doživljanje škodljivih posledic uporabe drog… izguba doma\, razbite in uničene družine\, odvzemi otrok\, prostitucija\, okužbe s HIV\, fizično nasilje\, alkoholizem…  \n  \n\n\n\n“𝑆𝑝𝑜𝑧𝑛𝑎𝑙 𝑠𝑒𝑚 𝑟𝑎𝑧𝑛𝑜𝑟𝑎𝑧𝑛𝑒 𝑜𝑑𝑣𝑖𝑠𝑛𝑖𝑘𝑒. 𝑆𝑘𝑜𝑟𝑎𝑗 𝑣𝑠𝑒𝑚 𝑗𝑒 𝑠𝑘𝑢𝑝𝑛𝑎 𝑒𝑛𝑎 𝑠𝑡𝑣𝑎𝑟. 𝑃𝑜𝑚𝑎𝑛𝑗𝑘𝑎𝑛𝑗𝑒 𝑡𝑜𝑝𝑙𝑖𝑛𝑒 𝑖𝑛 𝑣𝑎𝑟𝑛𝑜𝑠𝑡𝑖 𝑣 𝑜𝑡𝑟𝑜𝑠̌𝑡𝑣𝑢. 𝑂𝑠𝑡𝑎𝑙𝑎 𝑗𝑒 𝑙𝑢𝑘𝑛𝑗𝑎\, 𝑘𝑖 𝑗𝑜 𝑠𝑘𝑢𝑠̌𝑎𝑗𝑜 𝑧𝑎𝑓𝑖𝑙𝑎𝑡𝑖. 𝐼𝑛 𝑗𝑜 𝑓𝑖𝑙𝑎𝑗𝑜\, 𝑓𝑖𝑙𝑎𝑗𝑜 𝑖𝑛 𝑓𝑖𝑙𝑎𝑗𝑜. 𝐴 𝑠𝑒 𝑛𝑖𝑘𝑎𝑘𝑜𝑟 𝑛𝑒 𝑝𝑢𝑠𝑡𝑖 𝑧𝑎𝑓𝑖𝑙𝑎𝑡. 𝑍 𝑛𝑜𝑏𝑒𝑛𝑖𝑚 𝑔𝑟𝑎𝑚𝑜𝑚.” – Jan Cvitkovič  \n\n\n\nPogovor moderira Tea Hvala.  \n\n\n\n𝐏𝐨 𝐩𝐫𝐞𝐭𝐫𝐞𝐬𝐥𝐣𝐢𝐯𝐢𝐡 𝐳𝐠𝐨𝐝𝐛𝐚𝐡 𝐢𝐧 𝐠𝐥𝐨𝐛𝐨𝐤𝐞𝐦 𝐫𝐚𝐳𝐦𝐢𝐬𝐥𝐞𝐤𝐮\, 𝐯𝐚𝐬 𝐯𝐚𝐛𝐢𝐦𝐨\, 𝐝𝐚 𝐨𝐬𝐭𝐚𝐧𝐞𝐭𝐞 𝐧𝐚 𝐯𝐞𝐜̌𝐞𝐫𝐮 𝐝𝐫𝐮𝐳̌𝐚𝐛𝐧𝐢𝐡 𝐢𝐠𝐞𝐫\, 𝐤𝐣𝐞𝐫 𝐛𝐨𝐦𝐨 𝐬𝐤𝐮𝐩𝐚𝐣 𝐠𝐫𝐚𝐝𝐢𝐥𝐢 𝐭𝐢𝐬𝐭𝐨\, 𝐤𝐚𝐫 𝐨𝐝𝐯𝐢𝐬𝐧𝐢𝐤𝐨𝐦 𝐩𝐨𝐠𝐨𝐬𝐭𝐨 𝐦𝐚𝐧𝐣𝐤𝐚 – 𝐭𝐨𝐩𝐥𝐢𝐧𝐨\, 𝐩𝐨𝐯𝐞𝐳𝐚𝐧𝐨𝐬𝐭 𝐢𝐧 𝐩𝐫𝐢𝐬𝐭𝐧𝐞 𝐨𝐝𝐧𝐨𝐬𝐞.
URL:https://cmakcerkno.net/event/cmakino-gram-srca-in-pogovor-z-reziserjem-vecer-druzabnih-iger/
LOCATION:MC CMAK Cerkno\, Predavalnica VCC\, Bevkova 22
CATEGORIES:Film,Klubski večer,Pogovor
END:VEVENT
END:VCALENDAR