BEGIN:VCALENDAR
VERSION:2.0
PRODID:-//C.M.A.K. Cerkno - ECPv5.10.0//NONSGML v1.0//EN
CALSCALE:GREGORIAN
METHOD:PUBLISH
X-WR-CALNAME:C.M.A.K. Cerkno
X-ORIGINAL-URL:https://cmakcerkno.net
X-WR-CALDESC:Events for C.M.A.K. Cerkno
BEGIN:VTIMEZONE
TZID:Europe/Ljubljana
BEGIN:DAYLIGHT
TZOFFSETFROM:+0100
TZOFFSETTO:+0200
TZNAME:CEST
DTSTART:20180325T010000
END:DAYLIGHT
BEGIN:STANDARD
TZOFFSETFROM:+0200
TZOFFSETTO:+0100
TZNAME:CET
DTSTART:20181028T010000
END:STANDARD
END:VTIMEZONE
BEGIN:VEVENT
DTSTART;TZID=Europe/Ljubljana:20180322T200000
DTEND;TZID=Europe/Ljubljana:20180322T220000
DTSTAMP:20260421T160256
CREATED:20180318T100752Z
LAST-MODIFIED:20180318T100752Z
UID:2849-1521748800-1521756000@cmakcerkno.net
SUMMARY:CMAKino: Dobioza kolektiv - film za djecu i odrasle
DESCRIPTION:V četrtek\, 22. marca 2018 ob 20.oo si bomo v CMAKinu ogledali nov dokumentarec politično nekorektne balkanske ska reggae punk zasedbe Dubioza kolektiv. \n“Jednom davno\, u dalekoj zemlji zvanoj Bosna i Hercegovina\, skupina prijatelja odlučila je formirati bend.” \nZaenkrat edini pravi in pristni dokumentarec skupine Dubioza Kolektiv. O njih od njih za njih in za glasno glasbeno zgodovino. Film za otroke in odrasle. In muze. \nV dokumentarcu spremljamo Dubiozo vse od njenega nastanka pa do snemanja zadnje plate. Kaj se dogaja v studiu in kako se jim dogaja na glasbenih turnejah po Balkanu\, Evropi\, drugih kontinentih in v dvoranah in klubih blizu vas.
URL:https://cmakcerkno.net/event/cmakino-dobioza-kolektiv-film-za-djecu-i-odrasle/
CATEGORIES:Film
ATTACH;FMTTYPE=image/jpeg:https://cmakcerkno.net/wp-content/uploads/2018/03/Filmzadjecu.jpg
END:VEVENT
END:VCALENDAR