BEGIN:VCALENDAR
VERSION:2.0
PRODID:-//C.M.A.K. Cerkno - ECPv5.10.0//NONSGML v1.0//EN
CALSCALE:GREGORIAN
METHOD:PUBLISH
X-WR-CALNAME:C.M.A.K. Cerkno
X-ORIGINAL-URL:https://cmakcerkno.net
X-WR-CALDESC:Events for C.M.A.K. Cerkno
BEGIN:VTIMEZONE
TZID:Europe/Ljubljana
BEGIN:DAYLIGHT
TZOFFSETFROM:+0100
TZOFFSETTO:+0200
TZNAME:CEST
DTSTART:20190331T010000
END:DAYLIGHT
BEGIN:STANDARD
TZOFFSETFROM:+0200
TZOFFSETTO:+0100
TZNAME:CET
DTSTART:20191027T010000
END:STANDARD
END:VTIMEZONE
BEGIN:VEVENT
DTSTART;TZID=Europe/Ljubljana:20190115T190000
DTEND;TZID=Europe/Ljubljana:20190115T203000
DTSTAMP:20260422T105138
CREATED:20181217T092111Z
LAST-MODIFIED:20181217T092111Z
UID:3217-1547578800-1547584200@cmakcerkno.net
SUMMARY:CMAKino: Dakota 38
DESCRIPTION:Dokumentarni film Dakota 38 sledi skupini staroselskih jezdecev na potovanju od Južne Dakote do Minnesote. 330 milj dolga ježa je namenjena zdravljenju skupinske travme koloniziranega ljudstva\, poteka pa tudi v spomin in čast vsem umrlim ob koncu dakotske vojne leta 1862\, ko je bila na tleh današnjih ZDA izvedena največja skupinska usmrtitev: takratni predsednik Abraham Lincoln je namreč za dan po božiču ukazal javno obesiti 38 staroselcev.
URL:https://cmakcerkno.net/event/cmakino-dakota-38/
LOCATION:C.M.A.K. Cerkno\, Bevkova ulica 22\, Cerkno\, 5282\, Slovenija
CATEGORIES:Film
ATTACH;FMTTYPE=image/jpeg:https://cmakcerkno.net/wp-content/uploads/2018/12/dakota38.jpg
END:VEVENT
END:VCALENDAR