BEGIN:VCALENDAR
VERSION:2.0
PRODID:-//C.M.A.K. Cerkno - ECPv5.10.0//NONSGML v1.0//EN
CALSCALE:GREGORIAN
METHOD:PUBLISH
X-WR-CALNAME:C.M.A.K. Cerkno
X-ORIGINAL-URL:https://cmakcerkno.net
X-WR-CALDESC:Events for C.M.A.K. Cerkno
BEGIN:VTIMEZONE
TZID:Europe/Ljubljana
BEGIN:DAYLIGHT
TZOFFSETFROM:+0100
TZOFFSETTO:+0200
TZNAME:CEST
DTSTART:20140330T010000
END:DAYLIGHT
BEGIN:STANDARD
TZOFFSETFROM:+0200
TZOFFSETTO:+0100
TZNAME:CET
DTSTART:20141026T010000
END:STANDARD
END:VTIMEZONE
BEGIN:VEVENT
DTSTART;TZID=Europe/Ljubljana:20141219T200000
DTEND;TZID=Europe/Ljubljana:20141219T213000
DTSTAMP:20260420T100441
CREATED:20141125T142551Z
LAST-MODIFIED:20141126T154505Z
UID:776-1419019200-1419024600@cmakcerkno.net
SUMMARY:cmaKino: Boj za
DESCRIPTION:Dokumentarni film Boj za režiserja Siniše Gačića je na letošnjem Festivalu slovenskega filma prejel Vesno za najboljši celovečerni film. Dokumentarec so na Festivalu slovenskega filma označili za prepričljiv in pretresljiv dokument našega časa. Gačić je spremljal protestnike\, ki so mesec dni po začetku gibanja Occupy na Wall Streetu leta 2011 postavili šotore pred Ljubljansko borzo v kritiki predstavniške demokracije in kapitalizma. “Film je observacijski dokumentarec – s kamero smo spremljali dogajanje pred borzo\, nato pa smo tiste\, ki so sodelovali tam\, spremljali še v času vstaj\,” je poleti ob gostovanju filma na mednarodnem festivalu dokumentarnega filma DokuFest v Prizrenu pojasnil Gačić. Siniša Gačić je študent podiplomske smeri televizijska režija\, diplomiral je iz montaže. Boj za je njegov prvi celovečerni dokumentarec. Je avtor kratkih dokumentarnih filmov Večni Študent (2009) in Kupi me! (2011) ter portreta Maka Sajka (2013).
URL:https://cmakcerkno.net/event/cmakino-boj-za/
LOCATION:C.M.A.K. Cerkno\, Bevkova ulica 22\, Cerkno\, 5282\, Slovenija
CATEGORIES:Film
ATTACH;FMTTYPE=image/jpeg:https://cmakcerkno.net/wp-content/uploads/2014/11/boj-za-velika.jpg
END:VEVENT
END:VCALENDAR