BEGIN:VCALENDAR
VERSION:2.0
PRODID:-//C.M.A.K. Cerkno - ECPv5.10.0//NONSGML v1.0//EN
CALSCALE:GREGORIAN
METHOD:PUBLISH
X-WR-CALNAME:C.M.A.K. Cerkno
X-ORIGINAL-URL:https://cmakcerkno.net
X-WR-CALDESC:Events for C.M.A.K. Cerkno
BEGIN:VTIMEZONE
TZID:Europe/Ljubljana
BEGIN:DAYLIGHT
TZOFFSETFROM:+0100
TZOFFSETTO:+0200
TZNAME:CEST
DTSTART:20160327T010000
END:DAYLIGHT
BEGIN:STANDARD
TZOFFSETFROM:+0200
TZOFFSETTO:+0100
TZNAME:CET
DTSTART:20161030T010000
END:STANDARD
END:VTIMEZONE
BEGIN:VEVENT
DTSTART;TZID=Europe/Ljubljana:20160126T200000
DTEND;TZID=Europe/Ljubljana:20160126T220000
DTSTAMP:20260420T055804
CREATED:20160106T171430Z
LAST-MODIFIED:20160106T171430Z
UID:1739-1453838400-1453845600@cmakcerkno.net
SUMMARY:cmaKino: A Girl Walks Home Alone at Night
DESCRIPTION:V iranskem mestu duhov z imenom Bad City\, kjer smrdi po smrti in osamljenosti\, se meščani ne zavedajo\, da jih zasleduje osamljena vampirka. \nIgrani film je ameriška grozljivka v perzijščini\, režiran pod taktirko Ane Lily Amirpour. Film je dobil oznako “prvi iranski vampirski vestern”\, leta 2014 pa je bil prikazan tudi na filmskem festivalu Sundance.
URL:https://cmakcerkno.net/event/cmakino-a-girl-walks-home-alone-at-night/
LOCATION:C.M.A.K. Cerkno\, Bevkova ulica 22\, Cerkno\, 5282\, Slovenija
CATEGORIES:Film
ATTACH;FMTTYPE=image/jpeg:https://cmakcerkno.net/wp-content/uploads/2016/01/dekle-sama-ponoči-hodi-domov.jpg
END:VEVENT
END:VCALENDAR