BEGIN:VCALENDAR
VERSION:2.0
PRODID:-//C.M.A.K. Cerkno - ECPv5.10.0//NONSGML v1.0//EN
CALSCALE:GREGORIAN
METHOD:PUBLISH
X-WR-CALNAME:C.M.A.K. Cerkno
X-ORIGINAL-URL:https://cmakcerkno.net
X-WR-CALDESC:Events for C.M.A.K. Cerkno
BEGIN:VTIMEZONE
TZID:Europe/Ljubljana
BEGIN:DAYLIGHT
TZOFFSETFROM:+0100
TZOFFSETTO:+0200
TZNAME:CEST
DTSTART:20150329T010000
END:DAYLIGHT
BEGIN:STANDARD
TZOFFSETFROM:+0200
TZOFFSETTO:+0100
TZNAME:CET
DTSTART:20151025T010000
END:STANDARD
END:VTIMEZONE
BEGIN:VEVENT
DTSTART;TZID=Europe/Ljubljana:20150319T200000
DTEND;TZID=Europe/Ljubljana:20150319T220000
DTSTAMP:20260422T121925
CREATED:20150306T162744Z
LAST-MODIFIED:20150306T162819Z
UID:1023-1426795200-1426802400@cmakcerkno.net
SUMMARY:cmaKino: A.C.A.B.
DESCRIPTION:Italijanski igrani film nas skozi zgodbe treh policistov veteranov in mladega kadeta popelje v  kontraverzno enoto specialne policijske enote\, v čas po brutalnem napadu policije na šolo Diaz v Genovi leta 2001\, med protesti proti srečanju skupine G8.
URL:https://cmakcerkno.net/event/cmakino-a-c-a-b/
LOCATION:C.M.A.K. Cerkno\, Bevkova ulica 22\, Cerkno\, 5282\, Slovenija
CATEGORIES:Film
ATTACH;FMTTYPE=image/jpeg:https://cmakcerkno.net/wp-content/uploads/2015/03/ACABfilm.jpg
END:VEVENT
END:VCALENDAR