BEGIN:VCALENDAR
VERSION:2.0
PRODID:-//C.M.A.K. Cerkno - ECPv5.10.0//NONSGML v1.0//EN
CALSCALE:GREGORIAN
METHOD:PUBLISH
X-WR-CALNAME:C.M.A.K. Cerkno
X-ORIGINAL-URL:https://cmakcerkno.net
X-WR-CALDESC:Events for C.M.A.K. Cerkno
BEGIN:VTIMEZONE
TZID:Europe/Ljubljana
BEGIN:DAYLIGHT
TZOFFSETFROM:+0100
TZOFFSETTO:+0200
TZNAME:CEST
DTSTART:20180325T010000
END:DAYLIGHT
BEGIN:STANDARD
TZOFFSETFROM:+0200
TZOFFSETTO:+0100
TZNAME:CET
DTSTART:20181028T010000
END:STANDARD
END:VTIMEZONE
BEGIN:VEVENT
DTSTART;TZID=Europe/Ljubljana:20180420T180000
DTEND;TZID=Europe/Ljubljana:20180420T180000
DTSTAMP:20260421T160404
CREATED:20180408T162639Z
LAST-MODIFIED:20180408T162639Z
UID:2882-1524247200-1524247200@cmakcerkno.net
SUMMARY:CMAKanaple 420*
DESCRIPTION:Kot dandanes to počnejo že po celem svetu\, se bomo 20. aprila 2018 tudi v MC C.M.A.K. Cerkno poučili o različnih možnostih uporabe te hudičevo uporabne\, še 100 let nazaj tudi v naših krajih čisto vsakdanje zeli. \n*O tem\, zakaj je prav število 420 tako močno povezano z rastlino konoplje\, obstaja mnogo različnih zgodb.\nBaje\, da so skupine iz ZDA\, ki se (večinoma) še vedno borijo za legalizacijo kanabisa\, za skupen dan ozaveščanja čim širše javnosti izbrale 20. april\, kar se pri njih napiše kot 4.20.\nNekateri pravijo\, da je št. 420 koda policije za kaznivo dejanje v zvezi s posestjo marihuane.\nMenda so celo ure v filmu Šund nastavljene na dvajset čez štiri. \nKdo bi vedel\, zagotovo pa bo veliko izvedel kdor se bo udeležil: \n~ Predavanja Miha Stefe: Konoplja\, lahko ji rečemo rastlina za vse ~ \n~ Vegans(k)onopljina večerja ~\nZ brbončicami se bomo prepričali\, da je vsestransko uporabna tudi v kulinariki. \n~ Klubski večer z TminTafari Sound (roots. reggae\, dub\, rocksteady\, raggamuffin) ~\nTrije mladi ljubitelji reggaeja\, ki so se leta 2012 povezali z namenom širiti sporočilo in kulturo reggae glasbe ter jo približati pozitivnih vibracij željni publiki. Poleg nastopov povsod po Sloveniji velja še posebej omenit\, da so že od leta 2013 redni gostje na največjem tovrstnem dogodku pri nas\,Overjam International Reggae Festival. \n \nVsi dogodki so brezplačni\, prostovoljni prispevki zaželjeni.
URL:https://cmakcerkno.net/event/cmakanaple-420/
LOCATION:C.M.A.K. Cerkno\, Bevkova ulica 22\, Cerkno\, 5282\, Slovenija
CATEGORIES:Koncert,Okusno,Predavanje
END:VEVENT
END:VCALENDAR