BEGIN:VCALENDAR
VERSION:2.0
PRODID:-//C.M.A.K. Cerkno - ECPv5.10.0//NONSGML v1.0//EN
CALSCALE:GREGORIAN
METHOD:PUBLISH
X-WR-CALNAME:C.M.A.K. Cerkno
X-ORIGINAL-URL:https://cmakcerkno.net
X-WR-CALDESC:Events for C.M.A.K. Cerkno
BEGIN:VTIMEZONE
TZID:Europe/Ljubljana
BEGIN:DAYLIGHT
TZOFFSETFROM:+0100
TZOFFSETTO:+0200
TZNAME:CEST
DTSTART:20140330T010000
END:DAYLIGHT
BEGIN:STANDARD
TZOFFSETFROM:+0200
TZOFFSETTO:+0100
TZNAME:CET
DTSTART:20141026T010000
END:STANDARD
END:VTIMEZONE
BEGIN:VEVENT
DTSTART;TZID=Europe/Ljubljana:20141205T200000
DTEND;TZID=Europe/Ljubljana:20141205T220000
DTSTAMP:20260420T193923
CREATED:20141103T212905Z
LAST-MODIFIED:20141103T213106Z
UID:695-1417809600-1417816800@cmakcerkno.net
SUMMARY:Predstavitev nove ČKZ "Anarhizem: onkraj obstoječega"
DESCRIPTION:Vabimo vas na predstavitev nove številke Časopisa za kritiko znanosti z naslovom Anarhizem: onkraj obstoječega. \nPredstavitev bo v petek\, 5. decembra ob 20:00 v C.M.A.K. Cerkno. O novi številki Anarhizem: onkraj obstoječega in sodobnih pogledih na anarhizem bodo spregovorili urednica\, avtorice in avtorji številke. \nVljudno vabljeni! \nNina Kozinc\nv. d. odgovorne urednice ČKZ \nTjaša Pureber\nurednica tematske številke \n*** \nAnarhistke in anarhisti so v zadnjih petnajstih letih soakterji vseh ključnih antisistemskih protestov in neavtoritarnega organiziranja od spodaj v Sloveniji in po svetu. Orodja\, ki jih družbena gibanja uporabljajo v boju proti kapitalu in dominaciji (od metod direktne akcije do plenumske neposredne demokracije)\, tako ali drugače resonirajo z anarhističnimi idejami. Mišljenje anarhizma se zato vse bolj vzpostavlja kot nujen predpogoj za razumevanje kartografije sodobnih družbenih konfliktov in emancipatornih bojev. Tematska številka je tako posvečena praksi in misli anarhizma v vseh njegovih kontradiktornostih in prelomih. \nKot rdeča nit se skozi številko odpira predvsem vprašanje\, ki si ga gibanje zastavlja že vrsto let: kako se lahko anarhisti organizirajo na neavtoritaren in neodtujen način\, ki bo hkrati omogočal transfer znanja in izkušenj ter omogočal učinkovito vključevanje in vplivanje na ključne družbene boje sodobnosti. Zdi se\, da je zato nujno ne le odpirati politični prostor\, kjer se anarhistične ideje in metode lahko širijo med ljudmi\, temveč tudi izumljanje novih metodologij boja in reflektiranja sodobnosti in preteklosti. V tem duhu avtorice in avtorji v pričujoči številki med drugim tudi prvič na enem mestu popisujejo zgodovino anarhistične misli na slovenskem govornem prostoru od 19. stoletja do danes. \nPrispevki so hkrati opis\, analiza in samokritika ne le družbe\, temveč tudi anarhističnega gibanja. V tem smislu je potrebno številko razumeti kot povabilo h kolektivni diskusiji o možnosti preseganja obstoječega stanja in premisleka o možnih alternativah vsesplošnega družbenega opustošenja. \nAvtorice in avtorji prispevkov: Joseph Baruch\, CrimethInc. Ex-Workers Collective\, Valter Cvijić\, Adin Crnkić\, Tim Dobovšek\, David Graeber\, Daniel Guérin\, Peter Korošec\, Gabriel Kuhn\, Johann Most\, Saul Newman\, Michael Schmidt in Lucien van der Walt\, Deric Shannon in J Rogue\, Daša Tepina\, Lana Zdravković\, Mile Zukić.
URL:https://cmakcerkno.net/event/ckz-o-anarhizmu/
LOCATION:C.M.A.K. Cerkno\, Bevkova ulica 22\, Cerkno\, 5282\, Slovenija
CATEGORIES:Predstavitev in debata
ATTACH;FMTTYPE=image/jpeg:https://cmakcerkno.net/wp-content/uploads/2014/11/ckz.jpg
END:VEVENT
END:VCALENDAR