BEGIN:VCALENDAR
VERSION:2.0
PRODID:-//C.M.A.K. Cerkno - ECPv5.10.0//NONSGML v1.0//EN
CALSCALE:GREGORIAN
METHOD:PUBLISH
X-WR-CALNAME:C.M.A.K. Cerkno
X-ORIGINAL-URL:https://cmakcerkno.net
X-WR-CALDESC:Events for C.M.A.K. Cerkno
BEGIN:VTIMEZONE
TZID:Europe/Ljubljana
BEGIN:DAYLIGHT
TZOFFSETFROM:+0100
TZOFFSETTO:+0200
TZNAME:CEST
DTSTART:20200329T010000
END:DAYLIGHT
BEGIN:STANDARD
TZOFFSETFROM:+0200
TZOFFSETTO:+0100
TZNAME:CET
DTSTART:20201025T010000
END:STANDARD
END:VTIMEZONE
BEGIN:VEVENT
DTSTART;TZID=Europe/Ljubljana:20200313T090000
DTEND;TZID=Europe/Ljubljana:20200313T093000
DTSTAMP:20260421T130946
CREATED:20200222T165237Z
LAST-MODIFIED:20200304T104058Z
UID:3825-1584090000-1584091800@cmakcerkno.net
SUMMARY:Cecilija in zmaj\, lutkovna predstava / 8. festival Deuje babe
DESCRIPTION:Cecilija in zmaj\nLutkovna predstava KUD Galerija CCU\n3+\, 30 min \nSte že kdaj srečale čisto pravega zmaja ali sanjarite\, kako bi ga privabile z najrazličnejšimi ukanami? Junakinja Cecilija ne okleva in se kot neustrašna vitezinja poda na pustolovščino. Pred zmajem naj bi rešila viteza\, a zgodba se odvije tako\, da reši drugo deklico\, potem ko pretenta zmaja\, ki podcenjuje njene sposobnosti in smeši enakost moških in žensk. \nPredstava je nastala po knjižni predlogi Cecilija in zmaj pisatelja Lawrenca Schimla. V slovenščino jo je prevedel Brane Mozetič (Center za slovensko književnost\, 2010). \nPozor\, predstava se dejansko začne ob 9:15\, ne ob 9:00\, kot piše zgoraj (zaradi Facebookovih omejitev). \nRežija\, priredba in izvedba: Tina Hribar Dragar\nGlasba: Polona Tomori Dobrović in Tina Hribar Dragar\nScenografija in izdelava lutk: Mateja Herbst\, Simon Drofelnik in Jasenka Lojović\nKostumografija: Simon Drofelnik\nFotografija: Tjaša Janovljak \nVeč o predstavi: http://www.kudgalerijaccu.org/2019/06/cecilija-in-zmaj.html\nKUD Galerija C.C.U.: http://www.kudgalerijaccu.org/ \nBrezplačno predstavo organiziramo za otroke iz Vrtca Peter Klepec\, vendar ste dobrodošli tudi starši z otroki\, ki ne obiskujejo vrtca. \nPredstavi bo sledila polurna lutkovna ustvarjalnica DEŽELA ZMAJEV\, na kateri bodo otroci iz vrtca (4+) izdelali unikatne zmaje različnih rodov in jih vzgojili\, da bodo nekoč skupaj z njimi odšli na potep v Zmajevo deželo. \nDogodek soorganizirata MC C.M.A.K. Cerkno in OŠ Cerkno\, deloma ga je podprla Občina Cerkno.
URL:https://cmakcerkno.net/event/cecilija-in-zmaj-lutkovna-predstava-8-festival-deuje-babe/
LOCATION:OŠ Cerkno\, Bevkova ulica 26\, Cerkno\, 5282\, Slovenia
CATEGORIES:Deuje babe,Gledališče
ATTACH;FMTTYPE=image/jpeg:https://cmakcerkno.net/wp-content/uploads/2020/02/cecilija-in-zmaj.jpg
END:VEVENT
END:VCALENDAR