BEGIN:VCALENDAR
VERSION:2.0
PRODID:-//C.M.A.K. Cerkno - ECPv5.10.0//NONSGML v1.0//EN
CALSCALE:GREGORIAN
METHOD:PUBLISH
X-WR-CALNAME:C.M.A.K. Cerkno
X-ORIGINAL-URL:https://cmakcerkno.net
X-WR-CALDESC:Events for C.M.A.K. Cerkno
BEGIN:VTIMEZONE
TZID:Europe/Ljubljana
BEGIN:DAYLIGHT
TZOFFSETFROM:+0100
TZOFFSETTO:+0200
TZNAME:CEST
DTSTART:20160327T010000
END:DAYLIGHT
BEGIN:STANDARD
TZOFFSETFROM:+0200
TZOFFSETTO:+0100
TZNAME:CET
DTSTART:20161030T010000
END:STANDARD
END:VTIMEZONE
BEGIN:VEVENT
DTSTART;TZID=Europe/Ljubljana:20160116T200000
DTEND;TZID=Europe/Ljubljana:20160116T213000
DTSTAMP:20260421T230813
CREATED:20151217T183023Z
LAST-MODIFIED:20151217T183119Z
UID:1694-1452974400-1452979800@cmakcerkno.net
SUMMARY:Brez meja - razprava na temo migracij in družbeno-politične situacije v Sloveniji
DESCRIPTION:Že v prvih dneh po zaprtju madžarske meje\, kar je povzročilo preusmeritev migracij tudi na področje Slovenije\, so državne strategije začele razpadati. Kljub prisotnosti številnih humanitarnih organizacij na terenu\, so razmere postajale vedno bolj nehumane. Ko se je situacija delno umirila\, so humanitarne organizacije prevzele in nadaljevale diskurz represivnih organov – strah in kontrola. V manj kot tednu dni je Državni zbor sprejel dopolnitev Zakona o obrambi in pozneje zatrl možnost referenduma. Vlada v imenu varnosti južno mejo vse bolj ograjuje z žičnato ograjo. Po jugovzhodu Slovenije je sedaj na vrsti Istra\, vsepovsod pa rezalna žica ne le omejuje prosto gibanje vseh\, temveč tudi grobo posega v življenja ob ograji živečih ljudi\, umetno deli njihove skupnosti ter ogroža divje živali.\nToda\, so migranti in migrantke\, kateri naj bi bili povod za postavljanje rezalne žice s strani države\, res varnostna grožnja? Je bodeča žica sploh politično odgovorno ravnanje? Zakaj in komu služijo ograje?\nO teh vprašanjih se bomo pogovarjali z aktivisti in aktivistkami Protirasistične fronte brez meja in Sindikata Radio Študent. Prav tako bomo govorili o situaciji na Bližnjem Vzhodu\, prihodu beguncev v Evropo in spremembah\, ki so se na tej podlagi zgodile v Sloveniji.
URL:https://cmakcerkno.net/event/brez-meja-razprava-na-temo-migracij-in-druzbeno-politicne-situacije-v-sloveniji/
LOCATION:C.M.A.K. Cerkno\, Bevkova ulica 22\, Cerkno\, 5282\, Slovenija
CATEGORIES:Predstavitev in debata
ATTACH;FMTTYPE=image/jpeg:https://cmakcerkno.net/wp-content/uploads/2015/12/migracija-človekova-pravica.jpg
END:VEVENT
END:VCALENDAR