BEGIN:VCALENDAR
VERSION:2.0
PRODID:-//C.M.A.K. Cerkno - ECPv5.10.0//NONSGML v1.0//EN
CALSCALE:GREGORIAN
METHOD:PUBLISH
X-WR-CALNAME:C.M.A.K. Cerkno
X-ORIGINAL-URL:https://cmakcerkno.net
X-WR-CALDESC:Events for C.M.A.K. Cerkno
BEGIN:VTIMEZONE
TZID:Europe/Ljubljana
BEGIN:DAYLIGHT
TZOFFSETFROM:+0100
TZOFFSETTO:+0200
TZNAME:CEST
DTSTART:20230326T010000
END:DAYLIGHT
BEGIN:STANDARD
TZOFFSETFROM:+0200
TZOFFSETTO:+0100
TZNAME:CET
DTSTART:20231029T010000
END:STANDARD
END:VTIMEZONE
BEGIN:VEVENT
DTSTART;TZID=Europe/Ljubljana:20231125T180000
DTEND;TZID=Europe/Ljubljana:20231125T180000
DTSTAMP:20260421T024257
CREATED:20231103T161933Z
LAST-MODIFIED:20231106T185747Z
UID:5333-1700935200-1700935200@cmakcerkno.net
SUMMARY:Boris Vezjak – Konstrukcija normalnosti v medijih\, predavanje | Prostori Društva Upokojencev Cerkno
DESCRIPTION:Vabljene_i na predavanje s področja medijske pismenosti\nv soboto\, 25. novembra 2023\, ob 18. uri\nv Društvu upokojencev Cerkno(Močnikova ulica 8\, Cerkno). \n \nMediji nesporno dominantno konstruirajo naš pogled na družbo\, (socialno) normalnost in na nas same. Še več\, največkrat ne postavljajo zgolj korpusa idej\, norm in vrednot kot normalnih\, modelirajo naše obnašanje in krepijo ali rušijo stereotipe\, ampak nas lahko ustvarjajo tudi za »nenormalne« in pobebavljene. \nEksplicitna teza projektov medijske pismenosti je\, da bomo z več izobraževanja lažje razumeli njihovo delovanje. Toda taka teza medijske pismenosti je primarno pasivna in ne zagotavlja\, da se bo delovanje medijev po sebi izboljševalo – le razumeli in interpretirali jih bomo bolje. Če so mediji problematični oblikovalci (problematične) normalnosti (zapovedanih norm v družbi)\, potem medijski pismenosti manjka ambicija po aktivnem spreminjanju medijev\, s tem pa po vplivu na konstrukcije socialnih norm in normalnosti. Skozi analizo primerov zato predlagam aktivnejši upor v obliki medijske kritičnosti.\n\nBoris Vezjak je izredni profesor za filozofijo. Predava na Oddelku za filozofijo Filozofske fakultete v Mariboru in na Pedagoški fakulteti v Mariboru. Ukvarja se predvsem z zgodovino antične filozofije\, teorijo diskurza\, medijsko analizo in teorijo argumentacije. \nČKZ (Časopis za kritiko znanosti) je revija\, ki že pet desetletij kritično premišlja\, reflektira in opozarja na marginalizirane ali ranljive dele družbe\, kar dokazujejo tudi številne izdaje revije\, kot so Ženske v znanosti\, Zamolčane zgodovine I\, Mesto žensk – Zamolčane zgodovine II\, Zelene politike/Begunci\, Balkanska migracijska pot\, Nasilje nad LGBT mladino in odraslimi idr. ČKZ teh tem ne premišlja in nanje ne opozarja le s tiskano besedo raziskovalk/-cev in znanstvenic/-kov\, ampak se tudi aktivno bori za pravice ranljivih skupin v različnih aktivističnih pobudah. V tem kontekstu s ciklom predavanj širimo naša teoretska in praktična prizadevanja za ozaveščanje in sprejemanje ranljivih skupin v Sloveniji. \nPovezuje Tea Hvala\, dogodek je brezplačen. \nProjektni partnerji: ČKZ\, Ministrstvo za kulturo RS\, Forum Tomizza 2022\, C.M.A.K. in DU Cerkno
URL:https://cmakcerkno.net/event/boris-vezjak-predavanje-konstrukcija-normalnosti-v-medijih/
LOCATION:Društvo upokojencev Cerkno\, Močnikova ulica 8
CATEGORIES:Predavanje,Predstavitev in debata
END:VEVENT
END:VCALENDAR