BEGIN:VCALENDAR
VERSION:2.0
PRODID:-//C.M.A.K. Cerkno - ECPv5.10.0//NONSGML v1.0//EN
CALSCALE:GREGORIAN
METHOD:PUBLISH
X-WR-CALNAME:C.M.A.K. Cerkno
X-ORIGINAL-URL:https://cmakcerkno.net
X-WR-CALDESC:Events for C.M.A.K. Cerkno
BEGIN:VTIMEZONE
TZID:Europe/Ljubljana
BEGIN:DAYLIGHT
TZOFFSETFROM:+0100
TZOFFSETTO:+0200
TZNAME:CEST
DTSTART:20150329T010000
END:DAYLIGHT
BEGIN:STANDARD
TZOFFSETFROM:+0200
TZOFFSETTO:+0100
TZNAME:CET
DTSTART:20151025T010000
END:STANDARD
END:VTIMEZONE
BEGIN:VEVENT
DTSTART;TZID=Europe/Ljubljana:20150410T120000
DTEND;TZID=Europe/Ljubljana:20150430T200000
DTSTAMP:20260419T210441
CREATED:20150330T153657Z
LAST-MODIFIED:20150403T131059Z
UID:1074-1428667200-1430424000@cmakcerkno.net
SUMMARY:Bodi umetnik - igraj se z mano
DESCRIPTION:Mladinski center C.M.A.K. Cerkno v sodelovanju z OŠ Cerkno v galeriji Križišče gosti razstavo “Bodi umetnik”\, ki jo organizirata Center Janeza Levca Ljubljana in Društvo za kulturo inkluzije. \nOdprtje razstave bo potekalo na dan petka\, 10. aprila ob 12h. Sama razstava pa bo odprta do četrtka\, 28. aprila\, in sicer vsak dan razen nedelj\, od 17h do 20h. Po vnaprejšnjem dogovoru razstavo za večje skupine odpremo tudi izven delovnega časa galerije. \nhttp://www.igrajsezmano.eu/ \nVeč o razstavi: \nMednarodno festivalsko leto ‘Igraj se z mano’\, ki poteka v okviru Centra Janeza Levca Ljubljana in Društva za kulturo inkluzije\, zajema veliko število mednarodnih dogodkov\, namenjenih širitvi ideje o inkluziji oziroma vključevanju otrok in mladostnikov s posebnimi potrebami v širšo družbo. \nNaš cilj je organizacija dejavnosti\, kjer se skozi različne aktivnosti brišejo meje med osebami s posebnimi potrebami in ostalo populacijo. \nPri vodenju projektov nas vodi prepričanje\, da lahko skozi igro\, ki je ena najzgodnejših in najbolj pristnih aktivnosti človeka\, na podlagi katere ta spoznava svet in svojo okolico\, rušimo in brišemo stereotipe o omenjeni populaciji otrok in mladostnikov. \nMednarodna potujoča likovna razstava ‘Igraj se z mano’ predstavlja pomemben element v zgodbi o inkluziji\, ki jo skupaj z vami gradimo že od leta 2007. V sklopu potujoče razstave se na pot po Sloveniji in tujini podajo likovna dela\, ki jih vsakoletno prejmemo na Mednarodni likovni natečaj ‘Igraj se z mano’. Po osrednjem Mednarodnem kulturno likovnem dogodku ‘Igraj se z mano’\, ki se februarja odvija v Cankarjevem domu\, razstava v različnem obsegu zaokroži po šolah\, vrtcih\, knjižnicah\, mladinskih centrih in drugih ustanovah\nKoncepti\, ki jih zasledujemo \nPosebnost razstav\, tako otvoritvene razstave kot gostujočih je ta\, da so zasnovane na način\, da jih otroci postavljajo sami;\nZaželeno je\, da gostitelji k sodelovanju pri postavljanju razstave povabijo okoliške šole\, zavode ali druge organizacije;\nDa je dogodek še bolj pester\, pa ob postavljanju razstave potekajo tudi druge aktivnosti\, od nastopov do družabnih iger in delavnic. \nZasnova dogodka po naših izkušnjah iz preteklih let omogoča vzpostavljanje stikov in spodbuja druženje med otroci s posebnimi potrebami in večinsko populacijo\, zelo dobrodošlo pa je tudi medgeneracijsko druženje.
URL:https://cmakcerkno.net/event/bodi-umetnik-igraj-se-z-mano/
LOCATION:C.M.A.K. Cerkno\, Bevkova ulica 22\, Cerkno\, 5282\, Slovenija
CATEGORIES:Razstava
ATTACH;FMTTYPE=image/jpeg:https://cmakcerkno.net/wp-content/uploads/2015/03/igraj-se-z-mano-007.jpg
END:VEVENT
END:VCALENDAR