BEGIN:VCALENDAR
VERSION:2.0
PRODID:-//C.M.A.K. Cerkno - ECPv5.10.0//NONSGML v1.0//EN
CALSCALE:GREGORIAN
METHOD:PUBLISH
X-WR-CALNAME:C.M.A.K. Cerkno
X-ORIGINAL-URL:https://cmakcerkno.net
X-WR-CALDESC:Events for C.M.A.K. Cerkno
BEGIN:VTIMEZONE
TZID:Europe/Ljubljana
BEGIN:DAYLIGHT
TZOFFSETFROM:+0100
TZOFFSETTO:+0200
TZNAME:CEST
DTSTART:20150329T010000
END:DAYLIGHT
BEGIN:STANDARD
TZOFFSETFROM:+0200
TZOFFSETTO:+0100
TZNAME:CET
DTSTART:20151025T010000
END:STANDARD
END:VTIMEZONE
BEGIN:VEVENT
DTSTART;TZID=Europe/Ljubljana:20151127T160000
DTEND;TZID=Europe/Ljubljana:20151127T220000
DTSTAMP:20260422T122115
CREATED:20151105T161157Z
LAST-MODIFIED:20151125T102317Z
UID:1620-1448640000-1448661600@cmakcerkno.net
SUMMARY:Biotehnologijo (in koktajle) ljudem!
DESCRIPTION:Kakšen bi bil svet\, v katerem bi se biotska raznovrstnost večala s pomočjo evolucije in biotehnologije\, če slednje ne bi vodila želja po dobičku\, temveč cela vrsta umetniških\, kulinaričnih in drugih vzgibov\, ki bi vznikali sproti\, med ustvarjanjem v cenovno dostopnih kuhinjskih laboratorijih? \n\n16-19h: Tea Hvala in Small but dangers: Svetovi drugih\nNa delavnici Svetovi drugih bomo na glas razmišljali o biotehnologiji s pomočjo literarnih in likovnih tehnik\, primernih za skupinsko delo: kolaža in slastnega trupelca. S seboj prinesite izrezke iz časopisov ali revij (članke\, fotografije\, reklame) na temo genskega inženiringa in drugih področij\, povezanih z biotehnologijo (biologije\, kemije\, farmacije\, medicine\, kmetijstva ipd.). Nekaj gradiva bo že pripravljenega. Nastala dela bomo razstavili v CMAK-u in objavili v knjižici.20h: Robertina Šebjanič: DNK koktajl\nBioumetnica Robertina Šebjanič bo predstavila dokaj preprost postopek ekstrahiranja DNK iz rastlin in pripravila »koktajl«\, v katerem je s prosim očesom vidna DNK jagod. Jagodni DNK koktajl je sestavljen iz jagodnega pireja in alkohola. Ker jagodni DNK vsebuje zelo dolg polimer\, se grudice DNK-ja združijo z alkoholno plastjo in skupaj tvorijo dovolj dolge pramene\, da so vidni brez mikroskopa. \nPoleg tega (komaj pitnega) napitka bomo skupaj pripravili nekaj slastnih koktajlov\, zazrtih v vesolje\, denimo polarni sij in možgansko krvavitev vesoljca. Okušali jih bomo ob videoprojekciji gurmanskih odlomkov iz znanstvenofantastičnih filmov in futuristični glasbi po Robertininem izboru. \nUdeležba na obeh dogodkih je brezplačna. Podpirata ju Občina Cerkno in CMAK.  \n\nZa svetovanje in pomoč pri izvedbi dogodka se zahvaljujem Dariu Hvala\, Tini Zlatoper\, Juretu Pirihu in CMAK-ovi ekipi.\nVeč o dogodku: http://prepih.blogspot.si/2015/11/biotehnologijo-in-koktajle-ljudem.html\nFacebook vabilo: https://www.facebook.com/events/977977235600767/ \n* \nTea Hvala piše in prevaja feministična besedila\, najraje znanstveno fantastiko. Delavnice skupinskega pisanja Svetovi drugih vodi od leta 2008. Od oktobra letos s Small but Dangers pripravlja radijsko oddajo Pisani svet. http://prepih.blogspot.si/ \nV tandemu Small but dangers sodelujeta Mateja Rojc in Simon Hudolin Salči. V svojih slikah\, videih\, performansih in akcijah izprašujeta vizualne režime v času zasičenosti z medijskimi podobami resničnosti. http://smallbutdangers.cerkno.net/ \nRobertina Šebjanič ustvarja intermedijsko umetnost in bioumetnost. Med njene odmevnejše projekte spada zvočno-vizualni performans Aurelia 1+Hz\, v katerem je proučevala meduze\, in Humalga\, genetski hibrid med človekom in algo\, ki ga je ustvarila v sodelovanju z bioumetnico Špelo Petrič. http://robertina.net/
URL:https://cmakcerkno.net/event/biotehnologijo-ljudem/
LOCATION:C.M.A.K. Cerkno\, Bevkova ulica 22\, Cerkno\, 5282\, Slovenija
CATEGORIES:Večzvrstno
ATTACH;FMTTYPE=image/jpeg:https://cmakcerkno.net/wp-content/uploads/2015/11/prej-potem.jpg
END:VEVENT
END:VCALENDAR