BEGIN:VCALENDAR
VERSION:2.0
PRODID:-//C.M.A.K. Cerkno - ECPv5.10.0//NONSGML v1.0//EN
CALSCALE:GREGORIAN
METHOD:PUBLISH
X-WR-CALNAME:C.M.A.K. Cerkno
X-ORIGINAL-URL:https://cmakcerkno.net
X-WR-CALDESC:Events for C.M.A.K. Cerkno
BEGIN:VTIMEZONE
TZID:Europe/Ljubljana
BEGIN:DAYLIGHT
TZOFFSETFROM:+0100
TZOFFSETTO:+0200
TZNAME:CEST
DTSTART:20150329T010000
END:DAYLIGHT
BEGIN:STANDARD
TZOFFSETFROM:+0200
TZOFFSETTO:+0100
TZNAME:CET
DTSTART:20151025T010000
END:STANDARD
END:VTIMEZONE
BEGIN:VEVENT
DTSTART;TZID=Europe/Ljubljana:20151010T200000
DTEND;TZID=Europe/Ljubljana:20151010T235500
DTSTAMP:20260422T135210
CREATED:20150909T172935Z
LAST-MODIFIED:20151006T162327Z
UID:1508-1444507200-1444521300@cmakcerkno.net
SUMMARY:Bertopster
DESCRIPTION:Na drugo oktobrsko soboto bo z nami DJ BERTOPSTER\, ki nam bo zavrtel zvrhano merico alternativnega rocka 80h\, starega rocka in reggaeja.\nVabljene in vabljeni na ples\, čuparjenje ali prijetno debato s kolegicami in kolegi. 
URL:https://cmakcerkno.net/event/bertopster/
LOCATION:C.M.A.K. Cerkno\, Bevkova ulica 22\, Cerkno\, 5282\, Slovenija
CATEGORIES:Klubski večer
ATTACH;FMTTYPE=image/jpeg:https://cmakcerkno.net/wp-content/uploads/2015/09/BERTOPSTER.jpg
END:VEVENT
END:VCALENDAR